BEGIN:VCALENDAR
VERSION:2.0
PRODID:-//ChamberMaster//Event Calendar 2.0//EN
METHOD:PUBLISH
X-PUBLISHED-TTL:P3D
REFRESH-INTERVAL:P3D
CALSCALE:GREGORIAN
BEGIN:VEVENT
DTSTART:20250809T140000Z
DTEND:20250809T210000Z
X-MICROSOFT-CDO-ALLDAYEVENT:FALSE
SUMMARY:YOUR FAMILY FUNFEST @BGHL - Presented by A Helping Hand Always
DESCRIPTION:Are you looking for a fun filled day for the whole family? Come stop by Bradford Greenhouses on August 9\, 2025 from 10-5 for Family Funfest.\n\nFamily Funfest is provided and run by A Helping Hand Always. This event will feature a live band\, wagon rides\, carnival games\, kids entertainment\, local vendors and so much more. What would be better than to come and have a blast with the whole family.\n\nThis is a fantastic event to support one of our local organizations. Every year\, A Helping Hand Always organizes this Family Funfest to help raise awareness for Down Syndrome and Autism. Bradford Greenhouses is proud to be a main sponsor for this event. Come join us on August 9 for a great day out with your family.\n\nFor more information on this event\, please contact Ivette at 705-792-4133 or please visit www.ahelpinghandalways.com\n\n*No purchase necessary*\n\n*?Event Ticket NOT REQUIRED*
X-ALT-DESC;FMTTYPE=text/html:<p>Are you looking for a fun filled day for the whole family? Come stop by Bradford Greenhouses on August 9\, 2025 from 10-5 for Family Funfest.</p>\n\n<p>Family Funfest is provided and run by A Helping Hand Always. This event will feature a live band\, wagon rides\, carnival games\, kids entertainment\, local vendors and so much more. What would be better than to come and have a blast with the whole family.</p>\n\n<p>This is a fantastic event to support one of our local organizations. Every year\, A Helping Hand Always organizes this Family Funfest to help raise awareness for Down Syndrome and Autism. Bradford Greenhouses is proud to be a main sponsor for this event. Come join us on August 9 for a great day out with your family.</p>\n\n<p>For more information on this event\, please contact Ivette at 705-792-4133 or please visit www.ahelpinghandalways.com</p>\n\n<p>*No purchase necessary*</p>\n\n<p>*?Event Ticket NOT REQUIRED*</p>\n
LOCATION:4346 HWY\, 90 - Springwater\, ON
UID:e.2454.7989
SEQUENCE:3
DTSTAMP:20260419T192039Z
URL:https://business.barriechamber.com/events/details/your-family-funfest-bghl-presented-by-a-helping-hand-always-7989
END:VEVENT

END:VCALENDAR
