BEGIN:VCALENDAR
VERSION:2.0
PRODID:-//ChamberMaster//Event Calendar 2.0//EN
METHOD:PUBLISH
X-PUBLISHED-TTL:P3D
REFRESH-INTERVAL:P3D
CALSCALE:GREGORIAN
BEGIN:VEVENT
DTSTART:20260513T130000Z
DTEND:20260513T180000Z
X-MICROSOFT-CDO-ALLDAYEVENT:FALSE
SUMMARY:The Nuclear Renaissance: Powering Innovation and Opportunity
DESCRIPTION:May 13\, 2026\n\n\n\nWe are honoured to welcome Michael Lee-Chin\, Chairman and CEO of Portland Holdings and one of Canada's most successful investors and entrepreneurs. A self-made billionaire and globally respected thought leader\, Michael will share the principles behind his renowned 3P Framework Predict\, Plan\, Persevere and demonstrate how he is applying this disciplined approach to the unprecedented opportunities emerging across the nuclear landscape. Michael will explore how nuclear energy is poised to redefine the world's energy infrastructure and play a transformative role in addressing one of humanity's greatest challenges: cancer.\n\n\n\n______________________________________________________________________________________\n\n\n\nAs global priorities shift toward clean energy\, energy security and breakthrough healthcare solutions\, nuclear innovation is accelerating. It represents one of the most important economic and technological opportunities of our time.\n\nJoin the Barrie Chamber of Commerce\, the Orillia Chamber of Commerce\, and Georgian College for The Nuclear Renaissance\, a high-level forum exploring Ontario's leadership in nuclear energy and nuclear medicine\, and what it means for businesses\, workforce development and regional growth.\n\nThis event will bring together leaders from industry\, education and the business community to examine the evolving nuclear landscape and the opportunities emerging for our region.\n\nAdditional program details\, speakers and registration information will be announced soon.
X-ALT-DESC;FMTTYPE=text/html:<p data-end="501" data-start="281"><span style="font-size:14px\;"><span style="font-family:verdana\;"><strong>May 13\, 2026</strong></span></span><br />\n<br />\n<span style="font-size:14px\;"><span style="font-family:verdana\;">We are honoured to welcome <strong>Michael Lee-Chin\, Chairman and CEO of Portland Holdings</strong> and one of Canada&rsquo\;s most successful investors and entrepreneurs. A self-made billionaire and globally respected thought leader\, Michael will share the principles behind his renowned 3P Framework&mdash\;Predict\, Plan\, Persevere&mdash\;and demonstrate how he is applying this disciplined approach to the unprecedented opportunities emerging across the nuclear landscape. Michael will explore how nuclear energy is poised to redefine the world&rsquo\;s energy infrastructure and play a transformative role in addressing one of humanity&rsquo\;s greatest challenges: cancer.</span></span><br />\n<br />\n______________________________________________________________________________________<br />\n<br />\n<span style="font-size:14px\;"><span style="font-family:verdana\;">As global priorities shift toward clean energy\, energy security and breakthrough healthcare solutions\, nuclear innovation is accelerating. It represents one of the most important economic and technological opportunities of our time.</span></span></p>\n\n<p data-end="792" data-start="503"><span style="font-size:14px\;"><span style="font-family:verdana\;">Join the Barrie Chamber of Commerce\, the Orillia Chamber of Commerce\, and Georgian College for <strong><em data-end="623" data-start="598">The Nuclear Renaissance</em></strong>\, a high-level forum exploring Ontario&rsquo\;s leadership in nuclear energy and nuclear medicine\, and what it means for businesses\, workforce development&nbsp\;and regional growth.</span></span></p>\n\n<p data-end="974" data-start="794"><span style="font-size:14px\;"><span style="font-family:verdana\;">This event will bring together leaders from industry\, education&nbsp\;and the business community to examine the evolving nuclear landscape and the opportunities emerging for our region.</span></span></p>\n\n<p data-end="1066" data-start="976"><span style="font-size:14px\;"><span style="font-family:verdana\;">Additional program details\, speakers&nbsp\;and registration information will be announced soon.</span></span></p>\n
LOCATION:Georgian Theatre 1 Georgian Dr Bldg C\, Barrie\, ON L4M 6J8
UID:e.2454.8472
SEQUENCE:3
DTSTAMP:20260419T130635Z
URL:https://business.barriechamber.com/events/details/the-nuclear-renaissance-powering-innovation-and-opportunity-8472
END:VEVENT

END:VCALENDAR
