BEGIN:VCALENDAR
VERSION:2.0
PRODID:-//ChamberMaster//Event Calendar 2.0//EN
METHOD:PUBLISH
X-PUBLISHED-TTL:P3D
REFRESH-INTERVAL:P3D
CALSCALE:GREGORIAN
BEGIN:VEVENT
DTSTART:20260508T233000Z
DTEND:20260509T013000Z
X-MICROSOFT-CDO-ALLDAYEVENT:FALSE
SUMMARY:The Lightfoot Band
DESCRIPTION:Presented by The Lightfoot Band - The original band members of the late great Gordon Lightfoot.\n\n\n\nThese are the seasoned musicians who collaborated with Gordon on his world-famous recordings and toured extensively with him here in North America and internationally for many decades.\n\n\n\nThe Lightfoot Band includes these legendary veterans :\n\nRick Haynes on bass\, Barry Keane on drums and percussion\, Mike Heffernan on keyboards\, and Carter Lancaster on the lead guitars\, and\, in 2024\, introducing Andy Mauck on vocals and 6 & 12 string rhythm guitars.\n\n\n\nTogether\, they are now keeping Gordon's music alive - Playing the hits\, such as Sundown\, If You Could Read My Mind\, Carefree Highway\, the Wreck of the Edmund Fitzgerald\, Beautiful\, Rainy Day People\, Early Morning Rain\, to name a few as well as some deeper cuts\, not heard live for decades.\n\n\n\nBand members will relate some history and 'stories of the road' and will be available to meet the audience after shows in the lobby area.\n\n\n\nNet proceeds will be donated to Gilda's Club\n\n\n\nDon't miss this opportunity to continue enjoying the Songs of Gordon Lightfoot and more with The Lightfoot Band. Come for the songs and hear the stories!\n\nIn support of Gilda's Club Simcoe Muskoka
X-ALT-DESC;FMTTYPE=text/html:<p><strong>Presented by The Lightfoot Band - The original band members of the late great Gordon Lightfoot.</strong><br />\n<br />\nThese are the seasoned musicians who collaborated with Gordon on his world-famous recordings and toured extensively with him here in North America and internationally for many decades.<br />\n<br />\nThe Lightfoot Band includes these legendary veterans :<br />\nRick Haynes on bass\, Barry Keane on drums and percussion\, Mike Heffernan on keyboards\, and Carter Lancaster on the lead guitars\, and\, in 2024\, introducing Andy Mauck on vocals and 6 &amp\; 12 string rhythm guitars.<br />\n<br />\nTogether\, they are now keeping Gordon&#39\;s music alive - Playing the hits\, such as Sundown\, If You Could Read My Mind\, Carefree Highway\, the Wreck of the Edmund Fitzgerald\, Beautiful\, Rainy Day People\, Early Morning Rain\, to name a few as well as some deeper cuts\, not heard live for decades.<br />\n<br />\nBand members will relate some history and &#39\;stories of the road&#39\; and will be available to meet the audience after shows in the lobby area.<br />\n<br />\n<strong>Net proceeds will be donated to Gilda&#39\;s Club</strong><br />\n<br />\n<strong>Don&#39\;t miss this opportunity to continue enjoying the Songs of Gordon Lightfoot and more with The Lightfoot Band. Come for the songs and hear the stories!</strong></p>\n\n<p><strong>In support of Gilda&#39\;s Club Simcoe Muskoka</strong></p>\n
LOCATION:Georgian Theatre
UID:e.2454.8447
SEQUENCE:3
DTSTAMP:20260419T132015Z
URL:https://business.barriechamber.com/events/details/the-lightfoot-band-8447
END:VEVENT

END:VCALENDAR
