BEGIN:VCALENDAR
VERSION:2.0
PRODID:-//ChamberMaster//Event Calendar 2.0//EN
METHOD:PUBLISH
X-PUBLISHED-TTL:P3D
REFRESH-INTERVAL:P3D
CALSCALE:GREGORIAN
BEGIN:VEVENT
DTSTART:20250823T150000Z
DTEND:20250823T190000Z
X-MICROSOFT-CDO-ALLDAYEVENT:FALSE
SUMMARY:Super Soaker Block Party
DESCRIPTION:Get ready\, Barrie! The 2nd Annual Super Soaker Block Party is happening Saturday\, August 23\, 2025\, from 11 AM to 3 PM at Summerset Park   and you won't want to miss it!\n\n \n\nJoin us for a splash-filled day of fun with water games\, local vendors\, live entertainment\, food trucks\, and community spirit. Whether you're bringing the whole family or just stopping by with friends\, there's something for everyone.\n\n \n\nMeet amazing local businesses\n\nEnjoy kid-friendly activities\n\nWin awesome prizes\n\nAll while supporting the Women and Children's Shelter of Barrie\n\n \n\nBring your water guns\, your summer energy\, and your love for community. Let's make a splash for a great cause!
X-ALT-DESC;FMTTYPE=text/html:<div>Get ready\, Barrie! The 2nd Annual Super Soaker Block Party is happening Saturday\, August 23\, 2025\, from 11 AM to 3 PM at Summerset Park &mdash\; and you won&rsquo\;t want to miss it!<br />\n&nbsp\;</div>\n\n<div>Join us for a splash-filled day of fun with water games\, local vendors\, live entertainment\, food trucks\, and community spirit. Whether you&#39\;re bringing the whole family or just stopping by with friends\, there&rsquo\;s something for everyone.<br />\n&nbsp\;</div>\n\n<div>Meet amazing local businesses<br />\nEnjoy kid-friendly activities<br />\nWin awesome prizes<br />\nAll while supporting the Women and Children&rsquo\;s Shelter of Barrie<br />\n&nbsp\;</div>\n\n<div>Bring your water guns\, your summer energy\, and your love for community. Let&rsquo\;s make a splash for a great cause!</div>\n
LOCATION:
UID:e.2454.8152
SEQUENCE:3
DTSTAMP:20260419T172725Z
URL:https://business.barriechamber.com/events/details/super-soaker-block-party-8152
END:VEVENT

END:VCALENDAR
