BEGIN:VCALENDAR
VERSION:2.0
PRODID:-//ChamberMaster//Event Calendar 2.0//EN
METHOD:PUBLISH
X-PUBLISHED-TTL:P3D
REFRESH-INTERVAL:P3D
CALSCALE:GREGORIAN
BEGIN:VEVENT
DTSTART:20250918T130000Z
DTEND:20250918T143000Z
X-MICROSOFT-CDO-ALLDAYEVENT:FALSE
SUMMARY:Small Business Connect
DESCRIPTION:Small Business Connect: FREE Morning Networking Meeting\n\n \n\n\n\nLooking to connect with fellow entrepreneurs\, share ideas\, and grow your business community? Join us for our next FREE morning networking meeting!\n\n \n\n\n\nThis meeting\, we're excited to welcome guest speaker Nina Doiron\, who will share her expertise on:\n\nDownsizing Made Easy: An Exciting New Chapter\n\n\n\nDiscover practical insights and strategies to help make downsizing a positive\, empowering experience.\n\n \n\n\n\nDate: Thursday\, September 18\n\nTime: 9:00 AM\n\nLocation: Bloom Bistro\n\n \n\n\n\nBring your business cards\, your ideas\, and your curiosity because the best connections happen over good conversation.\n\n \n\n\n\nFree to attend | Open to all small business owners & professionals.\n\n \n\nNo reservation needed. Just join us and start your morning with connection and networking to grow your business!
X-ALT-DESC;FMTTYPE=text/html:<div>\n<div>Small Business Connect: FREE Morning Networking Meeting<br />\n&nbsp\;</div>\n</div>\n\n<div>\n<div>Looking to connect with fellow entrepreneurs\, share ideas\, and grow your business community? Join us for our next FREE morning networking meeting!<br />\n&nbsp\;</div>\n</div>\n\n<div>\n<div>This meeting\, we&rsquo\;re excited to welcome guest speaker Nina Doiron\, who will share her expertise on:</div>\n\n<div>Downsizing Made Easy: An Exciting New Chapter</div>\n</div>\n\n<div>\n<div>Discover practical insights and strategies to help make downsizing a positive\, empowering experience.<br />\n&nbsp\;</div>\n</div>\n\n<div>\n<div>Date: Thursday\, September 18</div>\n\n<div>Time: 9:00 AM</div>\n\n<div>Location: Bloom Bistro<br />\n&nbsp\;</div>\n</div>\n\n<div>\n<div>Bring your business cards\, your ideas\, and your curiosity because the best connections happen over good conversation.<br />\n&nbsp\;</div>\n</div>\n\n<div>\n<div>Free to attend | Open to all small business owners &amp\; professionals.<br />\n&nbsp\;</div>\n\n<div>No reservation needed. Just join us and start your morning with connection and networking to grow your business!</div>\n</div>\n
LOCATION:Bloom Bistro 225 Ferndale Dr S Barrie\, ON L4N 0T6
UID:e.2454.8187
SEQUENCE:3
DTSTAMP:20260419T191645Z
URL:https://business.barriechamber.com/events/details/small-business-connect-09-18-2025-8187
END:VEVENT

END:VCALENDAR
