BEGIN:VCALENDAR
VERSION:2.0
PRODID:-//ChamberMaster//Event Calendar 2.0//EN
METHOD:PUBLISH
X-PUBLISHED-TTL:P3D
REFRESH-INTERVAL:P3D
CALSCALE:GREGORIAN
BEGIN:VEVENT
DTSTART:20250807T130000Z
DTEND:20250807T143000Z
X-MICROSOFT-CDO-ALLDAYEVENT:FALSE
SUMMARY:Small Business Connect
DESCRIPTION:You're invited! FREE Small Business Networking Event!\n\n \n\n\n\nJoin us for our next Small Business Connect morning meeting\; your go-to spot for connection\, learning\, and support with fellow entrepreneurs and professionals!\n\n \n\n\n\nGuest Speaker: Rick Earhart\n\nTopic: What Every Small Business Should Know About Insurance\n\nDate: Thursday\, August 7\n\nTime: 9:00   10:30 AM\n\nLocation: Bloom Bistro\n\n \n\n\n\nWhether you're just starting out or have been in business for years\, insurance is something you can't afford to misunderstand. Rick will break down the essentials every small business owner needs to know to protect their business and their peace of mind.\n\n- Network with like-minded professionals\n\n- Get practical tips you can use right away\n\n- Learn in a friendly\, welcoming environment\n\n \n\n\n\nFREE to attend   just bring your business cards and your questions.\n\nNo need to RSVP or book. Just come and join us to network\, connect\, and grow your business!
X-ALT-DESC;FMTTYPE=text/html:<div>\n<div><strong><span style="font-size:14px">You&#39\;re invited! FREE Small Business Networking Event!</span></strong><br />\n&nbsp\;</div>\n</div>\n\n<div>\n<div>Join us for our next Small Business Connect morning meeting\; your go-to spot for connection\, learning\, and support with fellow entrepreneurs and professionals!<br />\n&nbsp\;</div>\n</div>\n\n<div>\n<div>Guest Speaker: Rick Earhart</div>\n\n<div>Topic: What Every Small Business Should Know About Insurance</div>\n\n<div>Date: Thursday\, August 7</div>\n\n<div>Time: 9:00 &ndash\; 10:30 AM</div>\n\n<div>Location: Bloom Bistro<br />\n&nbsp\;</div>\n</div>\n\n<div>\n<div>Whether you&#39\;re just starting out or have been in business for years\, insurance is something you can&#39\;t afford to misunderstand. Rick will break down the essentials every small business owner needs to know to protect their business and their peace of mind.</div>\n\n<div>- Network with like-minded professionals</div>\n\n<div>- Get practical tips you can use right away</div>\n\n<div>- Learn in a friendly\, welcoming environment<br />\n&nbsp\;</div>\n</div>\n\n<div>\n<div>FREE to attend &ndash\; just bring your business cards and your questions.</div>\n\n<div><strong>No need to RSVP or book. Just come and join us to network\, connect\, and grow your business!</strong></div>\n</div>\n
LOCATION:Bloom Bistro 225 Ferndale Dr S Barrie\, ON L4N 0T6
UID:e.2454.8175
SEQUENCE:3
DTSTAMP:20260419T175044Z
URL:https://business.barriechamber.com/events/details/small-business-connect-08-07-2025-8175
END:VEVENT

END:VCALENDAR
