BEGIN:VCALENDAR
VERSION:2.0
PRODID:-//ChamberMaster//Event Calendar 2.0//EN
METHOD:PUBLISH
X-PUBLISHED-TTL:P3D
REFRESH-INTERVAL:P3D
CALSCALE:GREGORIAN
BEGIN:VEVENT
DTSTART:20250703T130000Z
DTEND:20250703T143000Z
X-MICROSOFT-CDO-ALLDAYEVENT:FALSE
SUMMARY:Small Business Connect
DESCRIPTION:Small Business Connect   Morning Networking with a Flavourful Twist!\n\n \n\nJoin us for our next FREE Small Business Connect networking meeting   where great connections and delicious ideas are always on the menu!\n\n \n\nThis time\, we're welcoming guest speaker Trent Mayers\, wine expert and columnist\, who will be sharing his tasty insights on:\n\nRed\, White & Grilled: Wines That Wow at a BBQ.\n\n \n\nDiscover which wines will take your summer BBQ game to the next level   whether you're firing up ribs\, burgers\, or veggie skewers!\n\n \n\nCome for the networking\, stay for the conversation\, and leave with tips you can sip on all summer.\n\n \n\nNo registration needed   just drop in and join us!\n\n\n\nLet's mix business with a splash of fun. See you there and tag a friend!
X-ALT-DESC;FMTTYPE=text/html:<div><strong>Small Business Connect &ndash\; Morning Networking with a Flavourful Twist!</strong><br />\n&nbsp\;</div>\n\n<div>Join us for our next FREE Small Business Connect networking meeting &mdash\; where great connections and delicious ideas are always on the menu!<br />\n&nbsp\;</div>\n\n<div>This time\, we&rsquo\;re welcoming guest speaker Trent Mayers\, wine expert and columnist\, who will be sharing his tasty insights on:<br />\nRed\, White &amp\; Grilled: Wines That Wow at a BBQ.<br />\n&nbsp\;</div>\n\n<div>Discover which wines will take your summer BBQ game to the next level &mdash\; whether you&#39\;re firing up ribs\, burgers\, or veggie skewers!<br />\n&nbsp\;</div>\n\n<div>Come for the networking\, stay for the conversation\, and leave with tips you can sip on all summer.<br />\n&nbsp\;</div>\n\n<div>No registration needed &mdash\; just drop in and join us!<br />\n<br />\nLet&rsquo\;s mix business with a splash of fun. See you there and tag a friend!</div>\n
LOCATION:Bloom Bistro 225 Ferndale Dr S Barrie\, ON L4N 0T6
UID:e.2454.8151
SEQUENCE:3
DTSTAMP:20260419T160819Z
URL:https://business.barriechamber.com/events/details/small-business-connect-07-03-2025-8151
END:VEVENT

END:VCALENDAR
