BEGIN:VCALENDAR
VERSION:2.0
PRODID:-//ChamberMaster//Event Calendar 2.0//EN
METHOD:PUBLISH
X-PUBLISHED-TTL:P3D
REFRESH-INTERVAL:P3D
CALSCALE:GREGORIAN
BEGIN:VEVENT
DTSTART:20260511T230000Z
DTEND:20260512T000000Z
X-MICROSOFT-CDO-ALLDAYEVENT:FALSE
SUMMARY:Simcoe Youth Choir presents Together We Are Better
DESCRIPTION:Please join us for our free spring concert as we celebrate the hard work of our singers\, the band\, the teen guitar club\, and our choir director!
X-ALT-DESC;FMTTYPE=text/html:<strong>Please join us for our free spring concert as we celebrate the hard work of our singers\, the band\, the teen guitar club\, and our choir director!</strong>
LOCATION:Collier Street United Church 112 Collier St\, Barrie\, ON L4M 1H3
UID:e.2454.8476
SEQUENCE:3
DTSTAMP:20260422T085810Z
URL:https://business.barriechamber.com/events/details/simcoe-youth-choir-presents-together-we-are-better-8476
END:VEVENT

END:VCALENDAR
