BEGIN:VCALENDAR
VERSION:2.0
PRODID:-//ChamberMaster//Event Calendar 2.0//EN
METHOD:PUBLISH
X-PUBLISHED-TTL:P3D
REFRESH-INTERVAL:P3D
CALSCALE:GREGORIAN
BEGIN:VEVENT
DTSTART:20250605T220000Z
DTEND:20250606T010000Z
X-MICROSOFT-CDO-ALLDAYEVENT:FALSE
SUMMARY:Show off your talents: OPEN MIC at Symposium Barrie
DESCRIPTION:Calling all performers! Mat Power welcomes you on the first Thursday of the month to come up to the OPEN MIC at Symposium Barrie. From 6-9pm
X-ALT-DESC;FMTTYPE=text/html:Calling all performers! Mat Power welcomes you on the first Thursday of the month to come up to the OPEN MIC at Symposium Barrie. From 6-9pm
LOCATION:Cundles Road East at Highway 400
UID:e.2454.7980
SEQUENCE:3
DTSTAMP:20260419T145739Z
URL:https://business.barriechamber.com/events/details/show-off-your-talents-open-mic-at-symposium-barrie-7980
END:VEVENT

END:VCALENDAR
