BEGIN:VCALENDAR
VERSION:2.0
PRODID:-//ChamberMaster//Event Calendar 2.0//EN
METHOD:PUBLISH
X-PUBLISHED-TTL:P3D
REFRESH-INTERVAL:P3D
CALSCALE:GREGORIAN
BEGIN:VEVENT
DTSTART:20250927T140000Z
DTEND:20250927T170000Z
X-MICROSOFT-CDO-ALLDAYEVENT:FALSE
SUMMARY:Repair Cafe
DESCRIPTION:Waste less and fix more! Bring your broken household items in need of some love to the Repair Caf ! Disclaimer: We cannot guarantee fixers for all items.\n\n\n\n\n\n\n\n Registration: OPENS 9am September 2\n\nSpace is limited. First come first served\, drop-ins will have their name added to a list.\n\n\nWhy buy something new if you can fix what you already have? The Repair Caf  "fixers' are sharing a variety of skills to help you fix common household items. Refer to the list of items that includes what you can and cannot bring. Participants\, please review the House Rules.\n\n\n\n\nLocation : Barrie Public Library\, Downtown Branch\n\nRoom: Gathering Place\n\nDate: Saturday September 27\n\nTime Slot 1: 10:00am-11:30am REGISTRATION LINK\n\nTime Slot 2: 11:30am-1:00pm REGISTRATION LINK\n\nAcceptable Items\n\nSmall household appliances\, small wood items\, children's toys\, clothing\, household textiles\n\nUnacceptable Items\n\nItems that need welding\, furniture\, electronics\, digital (subject to review\, please Register for consideration)\, refrigeration equipment\, gas-powered equipment\, items from other countries with different currents\, very large/heavy items.
X-ALT-DESC;FMTTYPE=text/html:<div>\n<div>\n<div>\n<p>Waste less and fix more! Bring your broken household items in need of some love to the Repair Caf&eacute\;! Disclaimer: We cannot guarantee fixers for all items.</p>\n</div>\n</div>\n</div>\n\n<div>\n<div>\n<div>\n<h3><a href="https://barrielibrary.libnet.info/events?d=2025-09-01&amp\;v=grid&amp\;r=range">&nbsp\;Registration: OPENS 9am September 2</a></h3>\n\n<p><strong>Space is limited. First come first served\, drop-ins will have their name added to a list.</strong></p>\n\n<hr />\n<p>Why buy something new if you can fix what you already have? The Repair Caf&eacute\; &ldquo\;fixers&rsquo\; are sharing a variety of skills to help you fix common household items. Refer to the list of items that includes what you can and cannot bring. Participants\, please review the&nbsp\;<a href="https://www.canadahelps.org/en/charities/LGBarrie/events/repair-cafe-2/" rel="noopener" target="_blank">House Rules</a>.</p>\n</div>\n</div>\n</div>\n\n<p><strong>Location :</strong> Barrie Public Library\, Downtown Branch</p>\n\n<p><strong>Room:</strong>&nbsp\;Gathering Place</p>\n\n<p><strong>Date:</strong> Saturday September 27</p>\n\n<p><strong>Time Slot 1:</strong> 10:00am-11:30am <a href="https://barrielibrary.libnet.info/event/14196597">REGISTRATION LINK</a></p>\n\n<p><strong>Time Slot 2:</strong> 11:30am-1:00pm <a href="https://barrielibrary.libnet.info/event/14196730">REGISTRATION LINK</a></p>\n\n<p><strong>Acceptable Items</strong></p>\n\n<p>Small household appliances\, small wood items\, children&#39\;s toys\, clothing\, household textiles</p>\n\n<p><strong>Unacceptable Items</strong></p>\n\n<p>Items that need welding\, furniture\, electronics\, digital (<em>subject to review\, please Register for consideration</em>)\, refrigeration equipment\, gas-powered equipment\, items from other countries with different currents\, very large/heavy items.</p>\n
LOCATION:Location : Barrie Public Library\, Downtown Branch Room: Gathering Place
UID:e.2454.8173
SEQUENCE:3
DTSTAMP:20260419T190718Z
URL:https://business.barriechamber.com/events/details/repair-cafe-09-27-2025-8173
END:VEVENT

END:VCALENDAR
