BEGIN:VCALENDAR
VERSION:2.0
PRODID:-//ChamberMaster//Event Calendar 2.0//EN
METHOD:PUBLISH
X-PUBLISHED-TTL:P3D
REFRESH-INTERVAL:P3D
CALSCALE:GREGORIAN
BEGIN:VEVENT
DTSTART:20230428T163000Z
DTEND:20230429T000000Z
X-MICROSOFT-CDO-ALLDAYEVENT:FALSE
SUMMARY:Pop's Cannabis 1st Anniversary
DESCRIPTION:Celebrating our 1st Anniversary Friday April 28th from 12 pm- 8 pm\n\nRibbon Cutting at 12:30 pm\n\nMeet our Pop's Team\n\nLocal Licensed Producer Pop-Ups\n\nGiveaways and Light Food\n\nPop's Cannabis Big Bay Point\n\n\n\nhttps://menu.barrie.popscannabis.ca/stores/pops-cannabis-barrie
X-ALT-DESC;FMTTYPE=text/html:Celebrating our 1st Anniversary Friday April 28th from 12 pm- 8 pm<br />\nRibbon Cutting&nbsp\;at 12:30 pm<br />\nMeet our Pop&#39\;s Team<br />\nLocal Licensed Producer Pop-Ups<br />\nGiveaways and Light Food<br />\nPop&#39\;s Cannabis Big Bay Point<br />\n<br />\n<a href="https://menu.barrie.popscannabis.ca/stores/pops-cannabis-barrie">https://menu.barrie.popscannabis.ca/stores/pops-cannabis-barrie</a>
LOCATION:829 Big Bay Point Rd Unit D6\, Barrie\, ON L4M 4S6
UID:e.2454.5570
SEQUENCE:3
DTSTAMP:20260420T032357Z
URL:https://business.barriechamber.com/events/details/pop-s-cannabis-1st-anniversary-5570
END:VEVENT

END:VCALENDAR
