BEGIN:VCALENDAR
VERSION:2.0
PRODID:-//ChamberMaster//Event Calendar 2.0//EN
METHOD:PUBLISH
X-PUBLISHED-TTL:P3D
REFRESH-INTERVAL:P3D
CALSCALE:GREGORIAN
BEGIN:VEVENT
DTSTART:20250622T140000Z
DTEND:20250622T180000Z
X-MICROSOFT-CDO-ALLDAYEVENT:FALSE
SUMMARY:Paw's for a Cause Pet Walk-A-Thon
DESCRIPTION:Paws for a Cause is our first annual Pet Walk-a-Thon and marks Samaritan House's first major fundraiser since COVID-19. This special event not only celebrates our love for pets but also serves as a meaningful reintroduction of Samaritan House to the community.\n\nDedicated to supporting women and families across Simcoe County who have faced intimate partner violence and gender based violence\, Paws for a Cause brings together animal lovers\, families\, and local supporters for a fun and purposeful day focused on compassion\, connection\, and community.\n\nParticipants are invited to walk alongside their furry companions\, raise awareness\, and help generate valuable funds that sustain Samaritan House's vital programs\, including food access\, housing support\, and crisis resources. The event also features local vendors\, family-friendly activities\, raffle prizes\, and plenty of tail-wagging fun.\n\nWhether you're a pet owner\, an animal advocate\, or simply someone who believes in giving back\, Paws for a Cause is a joyful way to get involved and support meaningful change four paws at a time.
X-ALT-DESC;FMTTYPE=text/html:<p><em>Paws for a Cause</em> is our <cite><strong>first annual Pet Walk-a-Thon</strong></cite> and marks Samaritan House&rsquo\;s <strong>f<cite>irst major fundraiser since COVID-19</cite></strong><cite>.</cite> This special event not only celebrates our love for pets but also serves as a meaningful reintroduction of Samaritan House to the community.</p>\n\n<p>Dedicated to supporting women and families across Simcoe County who have faced intimate partner violence and gender based violence\, <em>Paws for a Cause</em> brings together animal lovers\, families\, and local supporters for a fun and purposeful day focused on compassion\, connection\, and community.</p>\n\n<p>Participants are invited to walk alongside their furry companions\, raise awareness\, and help generate <strong>valuable funds that sustain Samaritan House&rsquo\;s vital programs</strong>\, including food access\, housing support\, and crisis resources. The event also features local vendors\, family-friendly activities\, raffle prizes\, and plenty of tail-wagging fun.</p>\n\n<p>Whether you&#39\;re a pet owner\, an animal advocate\, or simply someone who believes in giving back\, <em>Paws for a Cause</em> is a joyful way to get involved and support meaningful change&mdash\;four paws at a time.</p>\n
LOCATION:Paws for a Cause will be held at the Barrie Waterfront at Will Dwyer Park. 81 Lakeshore Drive\, Barrie\, ON\, L4N 7R6
UID:e.2454.7974
SEQUENCE:3
DTSTAMP:20260419T144458Z
URL:https://business.barriechamber.com/events/details/paw-s-for-a-cause-pet-walk-a-thon-7974
END:VEVENT

END:VCALENDAR
