BEGIN:VCALENDAR
VERSION:2.0
PRODID:-//ChamberMaster//Event Calendar 2.0//EN
METHOD:PUBLISH
X-PUBLISHED-TTL:P3D
REFRESH-INTERVAL:P3D
CALSCALE:GREGORIAN
BEGIN:VEVENT
DTSTART:20250508T130000Z
DTEND:20250508T143000Z
X-MICROSOFT-CDO-ALLDAYEVENT:FALSE
SUMMARY:HRPAR Webinar: Let's Get Off The Ride - Navigating Workforce Planning
DESCRIPTION:Let's Get Off The Ride: Navigating Workforce Planning\n\nHR can feel like a rollercoaster and we are here to help you get off the ride. In this informative pop-up session\, we will discuss strategies to plan for and address the impact of tariffs on your business including changes to work sharing\, managing short-term layoffs\, navigating terminations\, and other employee-related cost-cutting measures.
X-ALT-DESC;FMTTYPE=text/html:<h1><u>Let&rsquo\;s Get Off The Ride: Navigating Workforce Planning</u></h1>\n\n<p>HR can feel like a rollercoaster and we are here to help you get off the ride. In this informative pop-up session\, we will discuss strategies to plan for and address the impact of tariffs on your business including changes to work sharing\, managing short-term layoffs\, navigating terminations\, and other employee-related cost-cutting measures.&nbsp\;</p>\n
LOCATION:Virtual (Zoom)
UID:e.2454.7941
SEQUENCE:3
DTSTAMP:20260419T131845Z
URL:https://business.barriechamber.com/events/details/let-s-get-off-the-ride-navigating-workforce-planning-7941
END:VEVENT

END:VCALENDAR
