BEGIN:VCALENDAR
VERSION:2.0
PRODID:-//ChamberMaster//Event Calendar 2.0//EN
METHOD:PUBLISH
X-PUBLISHED-TTL:P3D
REFRESH-INTERVAL:P3D
CALSCALE:GREGORIAN
BEGIN:VEVENT
DTSTART:20250925T130000Z
DTEND:20250925T163000Z
X-MICROSOFT-CDO-ALLDAYEVENT:FALSE
SUMMARY:HRPAR Workshop: Why Can't I Just Hire Them? - The Art of Effective Interviewing
DESCRIPTION:Why Can't I Just Hire Them?   The Art of Effective Interviewing\nDuring this interactive workshop\, participants will practice the art of designing effective interview questions to ensure that they are hiring top talent using practical tips and strategies for immediate application in their workplace.
X-ALT-DESC;FMTTYPE=text/html:<h1><u>Why Can&rsquo\;t I Just Hire Them? &ndash\; The Art of Effective Interviewing</u></h1>\nDuring this interactive workshop\, participants will practice the art of designing effective interview questions to ensure that they are hiring top talent using practical tips and strategies for immediate application in their workplace.
LOCATION:Virtually (Zoom)
UID:e.2454.7949
SEQUENCE:3
DTSTAMP:20260419T192019Z
URL:https://business.barriechamber.com/events/details/hrpar-workshop-why-can-t-i-just-hire-them-the-art-of-effective-interviewing-7949
END:VEVENT

END:VCALENDAR
