BEGIN:VCALENDAR
VERSION:2.0
PRODID:-//ChamberMaster//Event Calendar 2.0//EN
METHOD:PUBLISH
X-PUBLISHED-TTL:P3D
REFRESH-INTERVAL:P3D
CALSCALE:GREGORIAN
BEGIN:VEVENT
DTSTART:20251023T130000Z
DTEND:20251023T163000Z
X-MICROSOFT-CDO-ALLDAYEVENT:FALSE
SUMMARY:HRPAR Workshop Series: Understanding Employment Legislation
DESCRIPTION:Understanding Employment Legislation   Workshop Series\nThis three-part series is intended to build on the high-level overview of employment legislation in Ontario provided in our "Understanding Employment Legislation" e-commerce programs\, exploring\, in detail\, specific sections of the legislation.\n\n\n\nParticipants will have the opportunity to work through real-life scenarios and learn how the legislation is practically applied in their workplaces in order to ensure compliance.\n\n\n\nParticipants are encouraged to complete the corresponding e-commerce programs prior to attending these sessions. Participants will receive a 15% discount code for the e-commerce programs upon registering for each program.\n\n\n\nFor further information or to register\, please contact Nicole Vanderpost\, CHRP at nicole@hrpar.ca.
X-ALT-DESC;FMTTYPE=text/html:<h1><u>Understanding Employment Legislation &ndash\; Workshop Series</u></h1>\nThis three-part series is intended to build on the high-level overview of employment legislation in Ontario provided in our &ldquo\;Understanding Employment Legislation&rdquo\; e-commerce programs\, exploring\, in detail\, specific sections of the legislation.<br />\n<br />\nParticipants will have the opportunity to work through real-life scenarios and learn how the legislation is practically applied in their workplaces in order to ensure compliance.<br />\n<br />\nParticipants are encouraged to complete the corresponding e-commerce programs prior to attending these sessions. Participants will receive a 15% discount code for the e-commerce programs upon registering for each program.<br />\n<br />\nFor further information or to register\, please contact Nicole Vanderpost\, CHRP at <a href="mailto:nicole@hrpar.ca">nicole@hrpar.ca</a>.&nbsp\;
LOCATION:Virtually (Zoom)
UID:e.2454.7950
SEQUENCE:3
DTSTAMP:20260419T204053Z
URL:https://business.barriechamber.com/events/details/hrpar-workshop-series-understanding-employment-legislation-7950
END:VEVENT

END:VCALENDAR
