BEGIN:VCALENDAR
VERSION:2.0
PRODID:-//ChamberMaster//Event Calendar 2.0//EN
METHOD:PUBLISH
X-PUBLISHED-TTL:P3D
REFRESH-INTERVAL:P3D
CALSCALE:GREGORIAN
BEGIN:VEVENT
DTSTART:20250917T123000Z
DTEND:20250917T163000Z
X-MICROSOFT-CDO-ALLDAYEVENT:FALSE
SUMMARY:HRPAR Workshop Series: Essentials of Supervision
DESCRIPTION:Essentials of Supervision   Workshop Series\n\nHR Performance & Results is pleased to present the Essentials of Supervision workshop series. This six-week workshop is offered in a hybrid model allowing participants to choose to attend in-person at our 151 Ferris Lane office\, or virtually via Zoom.\n\nThe purpose of our Essentials of Supervision workshop is to assist supervisors in gaining the confidence and knowledge in becoming an effective supervisor and to provide practical tips and strategies for immediate application in their workplaces.\n\nAll our workshops are based on adult learning principles incorporating discussion\, individual and group exercises\, and lecture style. Each participant will receive a participant manual including tools and resources that can be used as a reference guide in their workplace.\n\nFor further information or to register\, please contact Nicole Vanderpost\, CHRP at nicole@hrpar.ca
X-ALT-DESC;FMTTYPE=text/html:<h1><u>Essentials of Supervision &ndash\; Workshop Series</u></h1>\n\n<p>HR Performance &amp\; Results is pleased to present the Essentials of Supervision workshop series. This six-week workshop is offered in a hybrid model allowing participants to choose to attend in-person at our 151 Ferris Lane office\, or virtually via Zoom.</p>\n\n<p>The purpose of our Essentials of Supervision workshop is to assist supervisors in gaining the confidence and knowledge in becoming an effective supervisor and to provide practical tips and strategies for immediate application in their workplaces.</p>\n\n<p>All our workshops are based on adult learning principles incorporating discussion\, individual and group exercises\, and lecture style. Each participant will receive a participant manual including tools and resources that can be used as a reference guide in their workplace.</p>\n\n<p>For further information or to register\, please contact Nicole Vanderpost\, CHRP at <a href="mailto:nicole@hrpar.ca">nicole@hrpar.ca</a></p>\n
LOCATION:Barrie\, ON or Virtually (Zoom)
UID:e.2454.7948
SEQUENCE:3
DTSTAMP:20260419T191808Z
URL:https://business.barriechamber.com/events/details/hrpar-workshop-series-essentials-of-supervision-09-17-2025-7948
END:VEVENT

END:VCALENDAR
