BEGIN:VCALENDAR
VERSION:2.0
PRODID:-//ChamberMaster//Event Calendar 2.0//EN
METHOD:PUBLISH
X-PUBLISHED-TTL:P3D
REFRESH-INTERVAL:P3D
CALSCALE:GREGORIAN
BEGIN:VEVENT
DTSTART;VALUE=DATE:20250823
DTEND;VALUE=DATE:20250825
TRANSP:TRANSPARENT
X-MICROSOFT-CDO-ALLDAYEVENT:TRUE
SUMMARY:Hoopz-4-Hope Tournament in support of Barrie Food Bank
DESCRIPTION:Hoopz-4-Hope Tournament is a 4-on-4 basketball tournament created to bring our city together and inspire hope for the future of our community. Over the course of the two-day event\, 30 teams will compete until only one is left standing to claim the cash prize.\n\nRegistration is simple: each player must bring a minimum of one non-perishable food item\, which will be donated to support the Barrie Food Bank. Teams can register by sending a message to @THEJUMPOFF705 on Instagram.
X-ALT-DESC;FMTTYPE=text/html:<p>Hoopz-4-Hope Tournament is&nbsp\;a&nbsp\;4-on-4 basketball tournament&nbsp\;created to bring our city together and inspire hope for the future of our community. Over the course of the two-day event\,&nbsp\;30 teams&nbsp\;will compete until only one is left standing to claim the&nbsp\;cash prize.</p>\n\n<p>Registration&nbsp\;is simple: each player must bring a&nbsp\;minimum of one non-perishable food item\, which will be donated to support the&nbsp\;Barrie Food Bank. Teams can register by sending&nbsp\;a message to <a href="https://www.instagram.com/jumpoff705/">@THEJUMPOFF705</a> on Instagram.</p>\n
LOCATION:Will Dwyer Park
UID:e.2454.8157
SEQUENCE:3
DTSTAMP:20260419T194034Z
URL:https://business.barriechamber.com/events/details/hoopz-4-hope-tournament-in-support-of-barrie-food-bank-8157
END:VEVENT

END:VCALENDAR
