BEGIN:VCALENDAR
VERSION:2.0
PRODID:-//ChamberMaster//Event Calendar 2.0//EN
METHOD:PUBLISH
X-PUBLISHED-TTL:P3D
REFRESH-INTERVAL:P3D
CALSCALE:GREGORIAN
BEGIN:VEVENT
DTSTART:20180322T220000Z
DTEND:20180323T010000Z
X-MICROSOFT-CDO-ALLDAYEVENT:FALSE
SUMMARY:For A Change Volunteer Fair
DESCRIPTION:On March 22\, Tandempark and the City of Barrie are bringing the volunteer community together at the For A Change Fair. This free event is an opportunity for people who care about their community to connect with volunteer-based organizations who are striving to strengthen and enrich the lives of others in our community. Organizations will each take the stage briefly to entice you to join their volunteer programs. Light refreshments will be available. Come and find your ultimate Volunteer role!
X-ALT-DESC;FMTTYPE=text/html:On March 22\, Tandempark and the City of Barrie are bringing the volunteer community together at the For A Change Fair. This free event is an opportunity for people who care about their community to connect with volunteer-based organizations who are striving to strengthen and enrich the lives of others in our community. Organizations will each take the stage briefly to entice you to join their volunteer programs. Light refreshments will be available. Come and find your ultimate Volunteer role!
LOCATION:Creative Space. 12 Dunlop Street East\, Barrie ON L4M 1A3
UID:e.2454.3030
SEQUENCE:3
DTSTAMP:20260419T143651Z
URL:https://business.barriechamber.com/events/details/for-a-change-volunteer-fair-3030
END:VEVENT

END:VCALENDAR
