BEGIN:VCALENDAR
VERSION:2.0
PRODID:-//ChamberMaster//Event Calendar 2.0//EN
METHOD:PUBLISH
X-PUBLISHED-TTL:P3D
REFRESH-INTERVAL:P3D
CALSCALE:GREGORIAN
BEGIN:VEVENT
DTSTART:20250924T210000Z
DTEND:20250924T230000Z
X-MICROSOFT-CDO-ALLDAYEVENT:FALSE
SUMMARY:Empower Simcoe’s 72nd Annual General Meeting & Gift of the Heart Awards
DESCRIPTION:You're invited to Empower Simcoe's 72nd Annual General Meeting & Gift of the Heart Awards   an evening dedicated to celebrating the people who make a difference in our community.\n\n\n	Be inspired by the stories of our 2025 Gift of the Heart Award recipients   recognizing outstanding Volunteers\, Employees\, Families\, Self-Advocates\, and Community Partners who champion inclusion and support for people of all abilities.\n	Special keynote by Dr. Robert Walsh\, CEO of OASIS (Ontario Agencies Supporting Individuals with Special Needs).\n	Don't miss the Empower Simcoe Marketplace\, featuring stunning original artwork by talented Empower Simcoe artists   available for viewing and purchase!\n	RSVP by September 8th at https://forms.office.com/r/48XvP6CPdk\n\n\n \n\nWe can't wait to celebrate with you!\n\n#EmpowerSimcoe #AGM2025 #GiftoftheHeart
X-ALT-DESC;FMTTYPE=text/html:<p><span style="color:rgb(8\, 8\, 9)\; font-family:arial\,helvetica\,sans-serif\; font-size:small">You&#39\;re invited to Empower Simcoe&rsquo\;s 72nd Annual General Meeting &amp\; Gift of the Heart Awards &mdash\; an evening dedicated to celebrating the people who make a difference in our community.</span></p>\n\n<ul>\n	<li>Be inspired by the stories of our 2025 Gift of the Heart Award recipients &mdash\; recognizing outstanding Volunteers\, Employees\, Families\, Self-Advocates\, and Community Partners who champion inclusion and support for people of all abilities.</li>\n	<li>Special keynote by Dr. Robert Walsh\, CEO of OASIS (Ontario Agencies Supporting Individuals with Special Needs).</li>\n	<li>Don&rsquo\;t miss the Empower Simcoe Marketplace\, featuring stunning original artwork by talented Empower Simcoe artists &ndash\; available for viewing and purchase!</li>\n	<li>RSVP by September 8th at&nbsp\;<u><span style="color:#467886"><a href="https://forms.office.com/r/48XvP6CPdk" style="color:rgb(17\, 85\, 204)\;" target="_blank">https://forms.office.com/r/48XvP6CPdk</a></span></u></li>\n</ul>\n\n<p>&nbsp\;<br />\n<span style="color:#080809">We can&rsquo\;t wait to celebrate with you!</span><br />\n<span style="color:#080809"><a href="https://www.facebook.com/hashtag/empowersimcoe?__eep__=6&amp\;__cft__%5b0%5d=AZVgCO74AJCFxUKDXlfDVAFtD7i3vUdNTmFbkNfMDPgVuTCurV1qDGb1LMo1umCU8CtxtWLKJOhUgvgAEusXTUAQKaIqzlwAxmm7mPt6T8JoMulr0GqzBgY8INH7a7DNbq0LkqoQo5hO7RUvLoNauO4k&amp\;__tn__=*NK-R" style="color:rgb(17\, 85\, 204)\;" target="_blank"><strong><span style="color:#0064d1">#EmpowerSimcoe</span></strong></a>&nbsp\;<a href="https://www.facebook.com/hashtag/agm2025?__eep__=6&amp\;__cft__%5b0%5d=AZVgCO74AJCFxUKDXlfDVAFtD7i3vUdNTmFbkNfMDPgVuTCurV1qDGb1LMo1umCU8CtxtWLKJOhUgvgAEusXTUAQKaIqzlwAxmm7mPt6T8JoMulr0GqzBgY8INH7a7DNbq0LkqoQo5hO7RUvLoNauO4k&amp\;__tn__=*NK-R" style="color:rgb(17\, 85\, 204)\;" target="_blank"><strong><span style="color:#0064d1">#AGM2025</span></strong></a>&nbsp\;<a href="https://www.facebook.com/hashtag/giftoftheheart?__eep__=6&amp\;__cft__%5b0%5d=AZVgCO74AJCFxUKDXlfDVAFtD7i3vUdNTmFbkNfMDPgVuTCurV1qDGb1LMo1umCU8CtxtWLKJOhUgvgAEusXTUAQKaIqzlwAxmm7mPt6T8JoMulr0GqzBgY8INH7a7DNbq0LkqoQo5hO7RUvLoNauO4k&amp\;__tn__=*NK-R" style="color:rgb(17\, 85\, 204)\;" target="_blank"><strong><span style="color:#0064d1">#GiftoftheHeart</span></strong></a></span></p>\n
LOCATION:Liberty North\, 100 Caplan Ave\, Barrie
UID:e.2454.8176
SEQUENCE:3
DTSTAMP:20260419T192409Z
URL:https://business.barriechamber.com/events/details/empower-simcoe-s-72nd-annual-general-meeting-gift-of-the-heart-awards-8176
END:VEVENT

END:VCALENDAR
