BEGIN:VCALENDAR
VERSION:2.0
PRODID:-//ChamberMaster//Event Calendar 2.0//EN
METHOD:PUBLISH
X-PUBLISHED-TTL:P3D
REFRESH-INTERVAL:P3D
CALSCALE:GREGORIAN
BEGIN:VEVENT
DTSTART:20250915T153000Z
DTEND:20250916T000000Z
X-MICROSOFT-CDO-ALLDAYEVENT:FALSE
SUMMARY:Dr. Stacie Weber’s Charity Golf Tournament
DESCRIPTION:Join us in celebrating 20 years of beauty\, confidence\, and community at Dr. Stacie Weber's Charity Golf Tournament! This prestigious event will bring together business leaders\, philanthropists\, and golf enthusiasts for a day of giving back\, networking\, and great golf fun.  All proceeds will support The Season's Centre for Grieving Children\, making a lasting impact.\n\nWe invite businesses and individuals to support this exciting event through various sponsorship opportunities that provide visibility\, engagement\, and brand recognition among participants.\n\n \n\nTeam & Individual Registration\n\n$300 per individual\n\n$1200 per foursome\n\nIncludes green fees\, power cart\, lunch and post-tournament cocktail reception.\n\nFormat\n\n18 hole\, 4 person scramble\n\nSchedule\n\n11:30 am - Registration and Lunch-to-go\n\n12:30 pm - Shotgun Start\n\n6:00 pm - Cocktail Reception
X-ALT-DESC;FMTTYPE=text/html:<p>Join us in celebrating 20 years of beauty\, confidence\, and community at Dr. Stacie Weber&rsquo\;s Charity Golf Tournament! This prestigious event will bring together business leaders\, philanthropists\, and golf enthusiasts for a day of giving back\, networking\, and great golf fun. &nbsp\;<strong>All proceeds will support The Season&rsquo\;s Centre for Grieving Children\, making a lasting impact.</strong></p>\n\n<p>We invite businesses and individuals to support this exciting event through various sponsorship opportunities that provide visibility\, engagement\, and brand recognition among participants.<br />\n&nbsp\;</p>\n\n<p style="text-align:center"><strong>Team &amp\; Individual Registration</strong><br />\n$300 per individual<br />\n$1200 per foursome<br />\nIncludes green fees\, power cart\, lunch and post-tournament cocktail reception.</p>\n\n<p style="text-align:center"><strong>Format</strong><br />\n18 hole\, 4 person scramble</p>\n\n<p style="text-align:center"><strong>Schedule</strong><br />\n11:30 am - Registration and Lunch-to-go<br />\n12:30 pm - Shotgun Start<br />\n6:00 pm - Cocktail Reception</p>\n\n<p style="text-align:center">&zwj\;</p>\n
LOCATION:National Pines Golf Club\, 8165 10 Sideroad\, Innisfil\, Ontario
UID:e.2454.8174
SEQUENCE:3
DTSTAMP:20260419T192156Z
URL:https://business.barriechamber.com/events/details/dr-stacie-weber-s-charity-golf-tournament-8174
END:VEVENT

END:VCALENDAR
