BEGIN:VCALENDAR
VERSION:2.0
PRODID:-//ChamberMaster//Event Calendar 2.0//EN
METHOD:PUBLISH
X-PUBLISHED-TTL:P3D
REFRESH-INTERVAL:P3D
CALSCALE:GREGORIAN
BEGIN:VEVENT
DTSTART:20260121T220000Z
DTEND:20260122T000000Z
X-MICROSOFT-CDO-ALLDAYEVENT:FALSE
SUMMARY:Business After 5 (BA5): January 2026
DESCRIPTION:Join us on Wednesday\, January 21st\, 2026 for our January Business After 5 at The Kage . Our FREE monthly BA5s are a great opportunity for the business community in Barrie to make new valuable connections and partnerships. Come and enjoy great food\, cash bar\, prizes and networking with fellow Barrie businesses.\n\n\n\nThe Kage\n\nThe Kage in Barrie is a premier indoor baseball and softball training facility dedicated to player development and year-round skill building. Offering state-of-the-art batting cages\, pitching areas\, HitTrax technology\, and space for team practices\, The Kage supports athletes of all ages and skill levels. With professional coaching\, camps\, clinics\, and a strong connection to the local sports community\, it has become a key destination for training\, recreation\, and athletic growth in the Barrie area.\n\nYouthreach\n\nYouthReach is a registered charity serving Simcoe County\, dedicated to ensuring that financial barriers do not prevent children from participating in extracurricular activities.\n\nOur mission is to transform lives by providing grants that support participation in structured programs such as arts\, sports\, and skill-based learning.\n\nFor many families\, the cost of program registration fees is a barrier that prevents their children from participating in music lessons\, dance classes\, sports teams\, and other activities. YouthReach works to remove these barriers so that every child has the opportunity to engage\, learn\, and grow.
X-ALT-DESC;FMTTYPE=text/html:<div style="white-space-collapse: preserve\;">\n<div style="font-family: Arial\, Helvetica\, sans-serif\; font-size: small\;"><span style="font-family: Arial\, Verdana\, Helvetica\, sans-serif\; font-size: 18px\; color: rgb(0\, 0\, 0)\;">Join us on&nbsp\;</span><span style="font-family: Arial\, Verdana\, Helvetica\, sans-serif\; font-size: 18px\; color: rgb(0\, 0\, 0)\; font-weight: bold\;">Wednesday\, January 21st\, 2026</span><span style="font-family: Arial\, Verdana\, Helvetica\, sans-serif\; font-size: 18px\; color: rgb(0\, 0\, 0)\;">&nbsp\;for our&nbsp\;</span><span style="font-family: Arial\, Verdana\, Helvetica\, sans-serif\; font-size: 18px\; color: rgb(0\, 0\, 0)\;">January Business After 5 at&nbsp\;</span><strong><span style="font-size:18px\;"><span style="font-family:arial\;"><a href="https://thekagebarrie.ca/">The Kage</a></span></span></strong><span style="font-family: Arial\, Verdana\, Helvetica\, sans-serif\; font-size: 18px\; color: rgb(0\, 0\, 0)\;">&nbsp\;</span><span style="font-family: Arial\, Verdana\, Helvetica\, sans-serif\; font-size: 18px\; color: rgb(0\, 0\, 0)\;">. Our FREE monthly BA5s are a great opportunity for the business community in Barrie to make new valuable connections and partnerships. Come and enjoy great food\, cash bar\, prizes and networking with fellow Barrie businesses.</span><br />\n<br />\n<strong style="font-family: Arial\, Helvetica\, sans-serif\; font-size: small\; white-space-collapse: preserve\;"><span style="font-size: 18px\;"><span style="font-family: arial\;"><a href="https://thekagebarrie.ca/">The Kage</a></span></span></strong><br />\n<span style="font-family:arial\;"><span style="font-size:16px\;">The Kage in Barrie is a premier indoor baseball and softball training facility dedicated to player development and year-round skill building. Offering state-of-the-art batting cages\, pitching areas\, HitTrax technology\, and space for team practices\, The Kage supports athletes of all ages and skill levels. With professional coaching\, camps\, clinics\, and a strong connection to the local sports community\, it has become a key destination for training\, recreation\, and athletic growth in the Barrie area.</span></span></div>\n\n<p style="font-family: Arial\, Helvetica\, sans-serif\; font-size: small\;"><strong style="font-family: Arial\, Helvetica\, sans-serif\; font-size: small\; white-space-collapse: preserve\;"><span style="font-size: 18px\;"><span style="font-family: arial\;"><a href="https://youthreach.ca/">Youthreach</a></span></span></strong><br style="font-family: Arial\, Helvetica\, sans-serif\; font-size: small\; white-space-collapse: preserve\;" />\n<span style="font-family:arial\;"><span style="font-size:16px\;">YouthReach is a registered charity serving Simcoe County\, dedicated to ensuring that financial barriers do not prevent children from participating in extracurricular activities.<br />\nOur mission is to transform lives by providing grants that support participation in structured programs such as arts\, sports\, and skill-based learning.<br />\nFor many families\, the cost of program registration fees is a barrier that prevents their children from participating in music lessons\, dance classes\, sports teams\, and other activities. YouthReach works to remove these barriers so that every child has the opportunity to engage\, learn\, and grow.</span></span></p>\n</div>\n\n<div style=""><span style="display: none\;">&nbsp\;</span></div>\n
LOCATION:
UID:e.2454.8231
SEQUENCE:3
DTSTAMP:20260420T042438Z
URL:https://business.barriechamber.com/events/details/business-after-5-ba5-november-2025-8231
END:VEVENT

END:VCALENDAR
