BEGIN:VCALENDAR
VERSION:2.0
PRODID:-//ChamberMaster//Event Calendar 2.0//EN
METHOD:PUBLISH
X-PUBLISHED-TTL:P3D
REFRESH-INTERVAL:P3D
CALSCALE:GREGORIAN
BEGIN:VEVENT
DTSTART:20250624T210000Z
DTEND:20250624T230000Z
X-MICROSOFT-CDO-ALLDAYEVENT:FALSE
SUMMARY:BUSINESS AFTER 5 (BA5) JUNE 2025
DESCRIPTION:Join us on June 24th at our Business After 5 cohosted by the BARRIE LEGION BRANCH 147 & Maven Commercial Real Estate. Our FREE monthly BA5s are a great opportunity for the business community in Barrie to make new valuable connections and partnerships. Come and enjoy great food\, cash bar\, prizes and networking with fellow Barrie businesses. \n\n \n\nBe sure to bring your business cards and some cash for the bar and tickets.\n\n\n\nIf you are a member of the Barrie Chamber\, please also register to attend our Annual General Meeting\, starting at 4pm - click here to register for the AGM. The Annual General Meeting is open to members in good standing.\n\n\n\nBARRIE BRANCH 147\n\nTo serve Veterans\, including serving military and RCMP members and their families\, to promote Remembrance\, and to serve our communities and our country.\n\n\n\nMaven Commercial Real Estate\n\nMaven Commercial Real Estate is a trusted local firm specializing in commercial sales\, leasing\, and investment properties. Known for their deep market knowledge and personalized service\, Maven helps clients navigate the complexities of commercial real estate with confidence. Whether you're looking to expand\, relocate\, or invest\, their team offers strategic guidance and tailored solutions to meet your business goals.
X-ALT-DESC;FMTTYPE=text/html:<div style="font-size: small\; white-space: pre-wrap\; font-family: Arial\, Helvetica\, sans-serif\;"><span style="font-size:14px\;"><span style="font-family:arial\;"><span style="background-image: initial\; background-position: initial\; background-size: initial\; background-repeat: initial\; background-attachment: initial\; background-origin: initial\; background-clip: initial\;">Join us on June 24th at our Business After 5 cohosted by the</span><span style="background-image: initial\; background-position: initial\; background-size: initial\; background-repeat: initial\; background-attachment: initial\; background-origin: initial\; background-clip: initial\;"> <strong><a href="https://barrielegion147.ca/">BARRIE LEGION BRANCH 147</a> &amp\; <a href="https://business.barriechamber.com/list/member/maven-commercial-real-estate-76445994">Maven Commercial Real Estate</a></strong></span><span style="background-image: initial\; background-position: initial\; background-size: initial\; background-repeat: initial\; background-attachment: initial\; background-origin: initial\; background-clip: initial\;">. Our FREE monthly BA5s are a great opportunity for the business community in Barrie to make new valuable connections and partnerships. Come and enjoy great food\, <strong>cash bar</strong>\, prizes and networking with fellow Barrie businesses. </span></span></span><br />\n&nbsp\;</div>\n\n<div style="font-size: small\; white-space: pre-wrap\; font-family: Arial\, Helvetica\, sans-serif\;"><span style="font-size:14px\;"><span style="font-family:arial\;"><span style="background-image: initial\; background-position: initial\; background-size: initial\; background-repeat: initial\; background-attachment: initial\; background-origin: initial\; background-clip: initial\;"><em>Be sure to bring your business cards and some cash for the bar and tickets.</em></span><br />\n<br />\n<strong><u>If you are a member</u> of the Barrie Chamber\, please also register to attend our Annual General Meeting\, starting at 4pm - <a href="https://business.barriechamber.com/events/details/2025-annual-general-meeting-voting-representatives-only-7975?calendarMonth=2025-06-01">click here to register for the AGM.</a> The Annual General Meeting is open to members in good standing.</strong></span></span><br />\n<br />\n<span style="font-size:14px\;"><span style="font-family:arial\;"><strong>BARRIE BRANCH 147</strong><br />\nTo serve Veterans\, including serving military and RCMP members and their families\, to promote Remembrance\, and to serve our communities and our country.<br />\n<br />\n<strong>Maven Commercial Real Estate</strong><br />\nMaven Commercial Real Estate is a trusted local firm specializing in commercial sales\, leasing\, and investment properties. Known for their deep market knowledge and personalized service\, Maven helps clients navigate the complexities of commercial real estate with confidence. Whether you&#39\;re looking to expand\, relocate\, or invest\, their team offers strategic guidance and tailored solutions to meet your business goals.</span></span><br />\n&nbsp\;</div>\n
LOCATION:Barrie Legion Branch 147 410 St. Vincent Street Barrie\, Ontario\, Canada\, L4M 4A6
UID:e.2454.7976
SEQUENCE:3
DTSTAMP:20260419T144446Z
URL:https://business.barriechamber.com/events/details/business-after-5-ba5-june-2025-7976
END:VEVENT

END:VCALENDAR
