BEGIN:VCALENDAR
VERSION:2.0
PRODID:-//ChamberMaster//Event Calendar 2.0//EN
METHOD:PUBLISH
X-PUBLISHED-TTL:P3D
REFRESH-INTERVAL:P3D
CALSCALE:GREGORIAN
BEGIN:VEVENT
DTSTART:20250716T210000Z
DTEND:20250716T230000Z
X-MICROSOFT-CDO-ALLDAYEVENT:FALSE
SUMMARY:Business After 5 (BA5): July 2025
DESCRIPTION:Join us on Wednesday\, July 16th\, 2025 for our July Business After 5 at ADM Design & Decor at Friday Harbour in support of M tis Nation of Ontario. Our FREE monthly BA5's are a great opportunity for the business community in Barrie to make new valuable connections and partnerships. Come and enjoy great food\, cash bar\, prizes and networking with fellow Barrie businesses.\n\nProceeds raised from the 50/50 draw will go to the Barrie South Simcoe M tis Council (BSSMC) for local M tis community initiatives. Tony Muscat from BSSMC will be on hand. \n\n\nBe sure to bring your business cards and some cash for the bar and tickets.\n\n\nADM Design & Decor\n\nIncorporated in 1991 by interior designer and fine artist Andrea McMullen\, ADM Design Inc offers award winning murals and renovations to luxury homes in Toronto. ADM grew into a 5000 sq. ft. studio\, showroom\, and warehouse\; selecting expert interior designers\, professional stagers\, tradespeople and a support team to fulfill residential and commercial projects. ADM has since opened two more boutiques displaying furnishings\, cabinetry\, lighting\, drapery & artwork. Creating atmospheres that attract clients and vendors from around the world.\n\n\n\nM tis Nation of Ontario\n\nThe M tis Nation of Ontario (MNO) represents the rights\, interests\, and culture of M tis people across the province. Rooted in a rich history of resilience\, entrepreneurship\, and connection to the land\, the MNO supports M tis citizens through a wide range of programs and services in areas such as education\, economic development\, health\, and cultural preservation. The MNO is committed to building strong relationships with communities\, governments\, and businesses\, and plays a vital role in advancing reconciliation and supporting M tis self-determination in Ontario. Patricia Graham will be presenting.
X-ALT-DESC;FMTTYPE=text/html:<div style="white-space-collapse: preserve\;">\n<div style="font-family: Arial\, Helvetica\, sans-serif\; font-size: small\;"><span style="font-size:18px\;"><span style="font-family:arial\;">Join us on Wednesday\, July 16th\, 2025 for our </span>July Business After 5 at </span><strong><span style="font-size:18px\;">ADM Design &amp\; Decor at Friday Harbour </span></strong><span style="font-size:18px\;">in support of<strong><span style="font-size:18px\;"> </span></strong><strong>M&eacute\;tis Nation of Ontario</strong>.<span style="font-family:arial\;"><span style="font-size:20px\;"> </span>Our FREE monthly BA5&#39\;s are a great opportunity for the business community in Barrie to make new valuable connections and partnerships. Come and enjoy great food\, cash bar\, prizes and networking with fellow Barrie businesses.<br />\nProceeds raised from the 50/50 draw will go to the Barrie South Simcoe M&eacute\;tis Council (BSSMC) for local M&eacute\;tis community initiatives. Tony Muscat from BSSMC will be on hand. </span></span></div>\n\n<div style="font-family: Arial\, Helvetica\, sans-serif\; font-size: small\; white-space-collapse: preserve\;">\n<div style="font-size: small\; white-space-collapse: preserve\; font-family: Arial\, Helvetica\, sans-serif\;"><span style="font-size:22px\;"><strong><span style="color:#000000\;"><span style="background-image: initial\; background-position: initial\; background-size: initial\; background-repeat: initial\; background-attachment: initial\; background-origin: initial\; background-clip: initial\;"><em>Be sure to bring your business cards and some cash for the bar and tickets.</em></span></span></strong></span></div>\n</div>\n\n<p style="white-space-collapse: preserve\;"><a href="https://admdesign.ca/"><strong style="font-family: Arial\, Helvetica\, sans-serif\; font-size: small\; white-space-collapse: preserve\;"><span style="font-size: 18px\;">ADM Design &amp\; Decor</span></strong></a><br />\n<span style="font-size:18px\;">Incorporated in 1991 by interior designer and fine artist Andrea McMullen\, ADM Design Inc offers award winning murals and renovations to luxury homes in Toronto. ADM grew into a 5000 sq. ft. studio\, showroom\, and warehouse\; selecting expert interior designers\, professional stagers\, tradespeople and a support team to fulfill residential and commercial projects. ADM has since opened two more boutiques displaying furnishings\, cabinetry\, lighting\, drapery &amp\; artwork. Creating atmospheres that attract clients and vendors from around the world.</span><br />\n<br />\n<a href="https://www.metisnation.org/"><strong><span style="font-size:18px\;">M&eacute\;tis Nation of Ontario</span></strong></a><br />\n<span style="font-size:18px\;">The M&eacute\;tis Nation of Ontario (MNO) represents the rights\, interests\, and culture of M&eacute\;tis people across the province. Rooted in a rich history of resilience\, entrepreneurship\, and connection to the land\, the MNO supports M&eacute\;tis citizens through a wide range of programs and services in areas such as education\, economic development\, health\, and cultural preservation. The MNO is committed to building strong relationships with communities\, governments\, and businesses\, and plays a vital role in advancing reconciliation and supporting M&eacute\;tis self-determination in Ontario. Patricia Graham will be presenting.</span></p>\n</div>\n\n<div style=""><span style="display: none\;">&nbsp\;</span></div>\n
LOCATION:PARKING OPTIONS: 1. Parking Garage Located right behind the retail stores on the boardwalk this has enough room for everyone\, located at the small red dot. 2. Parking Lot Located at the large red square "NORTH PARKING LOT". There is a free shuttle service. You can call 705.812.8880 ext. 0 for pick up. This parking lot is only a 2 min walk from the store\, people are welcome to walk from here as well.
UID:e.2454.8153
SEQUENCE:3
DTSTAMP:20260419T161218Z
URL:https://business.barriechamber.com/events/details/business-after-5-ba5-july-2025-8153
END:VEVENT

END:VCALENDAR
