BEGIN:VCALENDAR
VERSION:2.0
PRODID:-//ChamberMaster//Event Calendar 2.0//EN
METHOD:PUBLISH
X-PUBLISHED-TTL:P3D
REFRESH-INTERVAL:P3D
CALSCALE:GREGORIAN
BEGIN:VEVENT
DTSTART:20250824T140000Z
DTEND:20250824T200000Z
X-MICROSOFT-CDO-ALLDAYEVENT:FALSE
SUMMARY:Bradford Summer Pop-up Market
DESCRIPTION:Discover the best of local artisans at our Summer Pop-Up Market in Bradford! Shop a selection of handmade goods from talented artisans\, featuring everything from unique jewelry and fashion to home decor and fresh food. Don't miss out on this one-of-a-kind shopping experience   perfect for finding special\, locally-made treasures this summer!
X-ALT-DESC;FMTTYPE=text/html:<span style="font-family:lato\; font-size:18px"><span style="background-color:#FFFFFF">Discover the best of local artisans&nbsp\;at our Summer Pop-Up Market in Bradford! Shop a selection of handmade goods from talented artisans\, featuring everything from unique jewelry and fashion to home decor and fresh food.&nbsp\;Don&rsquo\;t miss out on this one-of-a-kind shopping experience &ndash\; perfect for finding special\, locally-made treasures this summer!</span></span>
LOCATION:3817 County Rd. 4\, Box 625\, Bradford\, ON\, L3Z 2B2
UID:e.2454.7988
SEQUENCE:3
DTSTAMP:20260419T173945Z
URL:https://business.barriechamber.com/events/details/bradford-summer-pop-up-market-08-24-2025-7988
END:VEVENT

END:VCALENDAR
