BEGIN:VCALENDAR
VERSION:2.0
PRODID:-//ChamberMaster//Event Calendar 2.0//EN
METHOD:PUBLISH
X-PUBLISHED-TTL:P3D
REFRESH-INTERVAL:P3D
CALSCALE:GREGORIAN
BEGIN:VEVENT
DTSTART:20251204T150000Z
DTEND:20251204T163000Z
X-MICROSOFT-CDO-ALLDAYEVENT:FALSE
SUMMARY:BNI Simcoe Advantage Vendor Show
DESCRIPTION:Vendor Opportunity   BNI Simcoe Advantage!\nDecember 4th | 10:00 AM   11:30 AM\n\n \n\nShowcase your products. Promote your business. Network. Make sales on the spot!\n\nBNI Simcoe Advantage is hosting a special vendor event and we want local businesses like yours to take part. This is your chance to connect directly with professionals in the community and get your business seen.\n\n\n	Display your products & services\n	Sell at the event\n	Network before\, during\, and after the BNI meeting\n	Learn how our chapter can help grow your business\n\n\nVendor Fee: $10 donation to support Habitat for Humanity Huronia\n\n \n\nBNI allows only one professional per business category. Spots are limited to businesses whose category is not already represented so don't wait! Spots are limited and will fill quickly! \n\n\n\nClick the link to register as a visitor/vendor today: Home | English (CA) | BNI Simcoe Advantage
X-ALT-DESC;FMTTYPE=text/html:<strong>Vendor Opportunity &ndash\; BNI Simcoe Advantage!</strong>\n<div><strong>December 4th | 10:00 AM &ndash\; 11:30 AM</strong><br />\n&nbsp\;</div>\n\n<div>Showcase your products. Promote your business. Network.&nbsp\;<strong>Make sales on the spot!</strong></div>\n\n<div>BNI Simcoe Advantage is hosting a special vendor event and we want&nbsp\;<strong>local businesses</strong>&nbsp\;like yours to take part. This is your chance to connect directly with professionals in the community and get your business seen.</div>\n\n<ul>\n	<li>Display your products &amp\; services</li>\n	<li>Sell at the event</li>\n	<li>Network before\, during\, and after the BNI meeting</li>\n	<li>Learn how our chapter can help grow your business</li>\n</ul>\n\n<div><strong>Vendor Fee:</strong>&nbsp\;$10 donation to support&nbsp\;<strong>Habitat for Humanity Huronia</strong></div>\n\n<div>&nbsp\;</div>\n\n<div><em>BNI allows only one professional per business category.</em>&nbsp\;Spots are limited to businesses whose category is not already represented&mdash\;so don&rsquo\;t wait!&nbsp\;<strong>Spots are limited and will fill quickly!</strong>&nbsp\;<br />\n<br />\n<strong>Click the link to register as a visitor/vendor today:&nbsp\;<a class="x_OWAAutoLink x_elementToProof" href="https://bni-ocn.com/ont--central-north-bni-simcoe-advantage/en-CA/index" id="OWAfb3b69de-163f-e4a5-3dc1-12cb70ca2711" style="border: 0px\; font: inherit\; margin: 0px\; padding: 0px\; vertical-align: baseline\;" title="https://bni-ocn.com/ont--central-north-bni-simcoe-advantage/en-CA/index">Home | English (CA) | BNI Simcoe Advantage</a></strong></div>\n
LOCATION:Barrie Chambers of Commerce
UID:e.2454.8202
SEQUENCE:3
DTSTAMP:20260419T234657Z
URL:https://business.barriechamber.com/events/details/bni-simcoe-advantage-vendor-show-8202
END:VEVENT

END:VCALENDAR
