BEGIN:VCALENDAR
VERSION:2.0
PRODID:-//ChamberMaster//Event Calendar 2.0//EN
METHOD:PUBLISH
X-PUBLISHED-TTL:P3D
REFRESH-INTERVAL:P3D
CALSCALE:GREGORIAN
BEGIN:VEVENT
DTSTART:20250607T130000Z
DTEND:20250607T190000Z
X-MICROSOFT-CDO-ALLDAYEVENT:FALSE
SUMMARY:Bicycle Poker Ride 2025!
DESCRIPTION:Tread Lightly & Embrace Active Transportation in June! \n\n\nBike Month\, which runs from June 1 to June 30\, is a province-wide celebration of cycling.  To celebrate\, Living Green Barrie and Firebird Community Cycle are teaming up  once again to present the second annual Bike Poker\n\nRide in June.\n\n \n\n\nThis family-friendly ride invites participants to discover Barrie by bike\, embracing sustainable transportation while supporting local businesses and community non-profits.\n\n \n\nCyclists will pedal around the city in teams of up to 4\, or as a family and visit local businesses to collect playing cards.  The ride is self-directed (a list of stops will be provided) and takes place on city streets\, so riders need to be comfortable riding with traffic on city streets.  Teams will meet for the post-ride celebration where we'll crown our champions and enjoy the camaraderie of fellow riders!\n\n \n\nPrizes will be awarded for the best poker hand and for those who love to push the pedal to the metal\, we'll be recognizing the rider or team who visit the most locations throughout the day\, best team name and much more!\n\n \n\nThis self-directed and family-friendly event welcomes all 2-wheeled enthusiasts\, including bikes\, pedal e-bikes and e-scooters. Don't miss out on the post-ride celebration from 3PM-5PM at One Eyed Jacks!\n\n \n\nREGISTRATION OPENS APRIL 11\, 2025
X-ALT-DESC;FMTTYPE=text/html:<div><strong>Tread Lightly &amp\; Embrace Active Transportation in June!&nbsp\;</strong></div>\n\n<div>\n<div style="background:transparent\; border:0px rgb(230\, 230\, 230)\; padding:0px">Bike Month\, which runs from June 1 to June 30\, is a province-wide celebration of cycling.&nbsp\; To celebrate\, Living Green Barrie and Firebird Community Cycle are teaming up&nbsp\; once again to present the&nbsp\;<strong>second annual Bike Poker<br />\nRide in June.</strong><br />\n&nbsp\;</div>\n</div>\n\n<div>This family-friendly ride invites participants to discover Barrie by bike\, embracing sustainable transportation while supporting local businesses and community non-profits.</div>\n\n<div>&nbsp\;</div>\n\n<div>Cyclists will pedal around the city in&nbsp\;<strong>teams of up to 4</strong>\,&nbsp\;<strong>or as a family</strong>&nbsp\;and visit local businesses to collect playing cards.&nbsp\; The ride is self-directed (a list of stops will be provided) and takes place on city streets\, so riders need to be comfortable riding with traffic on city streets.&nbsp\; Teams will meet for the&nbsp\;<strong>post-ride celebration</strong>&nbsp\;where we&rsquo\;ll crown our champions and enjoy the camaraderie of fellow riders!</div>\n\n<div>&nbsp\;</div>\n\n<div>Prizes will be awarded&nbsp\;for the best poker hand and for those who love to push the pedal to the metal\, we&rsquo\;ll be recognizing the rider or team who visit the most locations throughout the day\, best team name and much more!</div>\n\n<div>&nbsp\;</div>\n\n<div>This self-directed and family-friendly event welcomes all 2-wheeled enthusiasts\, including bikes\, pedal e-bikes and e-scooters.&nbsp\;<strong>Don&rsquo\;t miss out on the post-ride celebration from 3PM-5PM</strong>&nbsp\;<strong>at One Eyed Jacks!</strong></div>\n\n<div>&nbsp\;</div>\n\n<div><strong>REGISTRATION OPENS APRIL 11\, 2025</strong></div>\n
LOCATION:After Party One Eyed Jacks Wellington Plaza
UID:e.2454.7958
SEQUENCE:3
DTSTAMP:20260419T144258Z
URL:https://business.barriechamber.com/events/details/bicycle-poker-ride-2025-7958
END:VEVENT

END:VCALENDAR
