BEGIN:VCALENDAR
VERSION:2.0
PRODID:-//ChamberMaster//Event Calendar 2.0//EN
METHOD:PUBLISH
X-PUBLISHED-TTL:P3D
REFRESH-INTERVAL:P3D
CALSCALE:GREGORIAN
BEGIN:VEVENT
DTSTART:20251018T140000Z
DTEND:20251019T200000Z
X-MICROSOFT-CDO-ALLDAYEVENT:FALSE
SUMMARY:Barrie Fall Home and Lifestyle Show
DESCRIPTION:Join us on October 18th and 19th for our Annual Fall Home & Lifestyle Show. This show will feature guest speakers\, live demos\, home renovations\, home d cor\, interior design\, home accents\, outdoor activities\, and so much more. No matter what you're looking for\, we've got it! \n\n \n\nEnjoy shopping exclusive products from local vendors\, and many of them are one of a kind.\n\nTickets can be purchased in advance online or at the door the day of the show. Admission is $7 with 100% of NET proceeds going to Roots For Youth.\n\n \n\nFor more information please visit - https://shop.bradfordgreenhouses.com/.../barrie-fall-home...\n\n \n\nInterested in becoming an exhibitor? Contact Marissa at mnazaruk@bghl.ca
X-ALT-DESC;FMTTYPE=text/html:<div>Join us on October 18th and 19th for our Annual Fall Home &amp\; Lifestyle Show. This show will feature guest speakers\, live demos\, home renovations\, home d&eacute\;cor\, interior design\, home accents\, outdoor activities\, and so much more. No matter what you&rsquo\;re looking for\, we&#39\;ve got it!&nbsp\;<br />\n&nbsp\;</div>\n\n<div>Enjoy shopping exclusive products from local vendors\, and many of them are one of a kind.</div>\n\n<div>Tickets can be purchased in advance online or at the door the day of the show. Admission is $7 with 100% of NET proceeds going to Roots For Youth.<br />\n&nbsp\;</div>\n\n<div>For more information please visit -&nbsp\;<a class="x1i10hfl xjbqb8w x1ejq31n xd10rxx x1sy0etr x17r0tee x972fbf xcfux6l x1qhh985 xm0m39n x9f619 x1ypdohk xt0psk2 xe8uvvx xdj266r x11i5rnm xat24cr x1mh8g0r xexx8yu x4uap5 x18d9i69 xkhd6sd x16tdsg8 x1hl2dhg xggy1nq x1a2a7pz x1sur9pj xkrqix3 x1fey0fg" href="https://shop.bradfordgreenhouses.com/pages/barrie-fall-home-and-lifestyle-show" rel="nofollow noreferrer" style="color: var(--blue-link)\; cursor: pointer\; text-decoration-line: none\; outline: none\; list-style: none\; margin: 0px\; text-align: inherit\; border-style: none\; padding: 0px\; border-width: 0px\; box-sizing: border-box\; background-color: transparent\; display: inline\; -webkit-tap-highlight-color: transparent\; touch-action: manipulation\; font-family: inherit\;" tabindex="0" target="_blank">https://shop.bradfordgreenhouses.com/.../barrie-fall-home...</a><br />\n&nbsp\;</div>\n\n<div>Interested in becoming an exhibitor? Contact Marissa at mnazaruk@bghl.ca</div>\n
LOCATION:Highway 90\, Springwater\, ON L9X 1T7
UID:e.2454.7992
SEQUENCE:3
DTSTAMP:20260419T205112Z
URL:https://business.barriechamber.com/events/details/barrie-fall-home-and-lifestyle-show-10-18-2025-7992
END:VEVENT

END:VCALENDAR
