BEGIN:VCALENDAR
VERSION:2.0
PRODID:-//ChamberMaster//Event Calendar 2.0//EN
METHOD:PUBLISH
X-PUBLISHED-TTL:P3D
REFRESH-INTERVAL:P3D
CALSCALE:GREGORIAN
BEGIN:VEVENT
DTSTART:20250606T220000Z
DTEND:20250607T030000Z
X-MICROSOFT-CDO-ALLDAYEVENT:FALSE
SUMMARY:An Evening in the Garden - 10th Anniversary Celebration!
DESCRIPTION:It's been 10 Years and we're saying Thank You!!\n\n\n\nJoin us on June 6\, 2025\, for An Evening in the Garden to raise much-needed funds to reshape the futures of children in Simcoe County\, enabling them to participate in activities of their choosing.\n\n \n\nIf you want to buy tickets or a table\, go to www.youthreach.ca/gala or contact Jeanette at executivedirector@youthreach.ca .
X-ALT-DESC;FMTTYPE=text/html:<span style="font-family:calibri\,sans-serif">It&rsquo\;s been 10 Years and we&rsquo\;re saying Thank You!!</span><br />\n<br />\n<span style="font-family:calibri\,sans-serif">Join us on June 6\, 2025\, for An Evening in the Garden to raise much-needed funds to reshape the futures of children in Simcoe County\, enabling them to participate in activities of their choosing.</span><br />\n&nbsp\;<br />\n<span style="font-family:calibri\,sans-serif">If you want to buy tickets or a table\, go to www.youthreach.ca/gala or contact Jeanette at <a href="mailto:executivedirector@youthreach.ca" style="color:rgb(70\, 120\, 134)\;">executivedirector@youthreach.ca</a> .</span>
LOCATION:Braestone Farm\, 3288 Line 9N\, Coldwater
UID:e.2454.7742
SEQUENCE:3
DTSTAMP:20260419T144615Z
URL:https://business.barriechamber.com/events/details/an-evening-in-the-garden-10th-anniversary-celebration-7742
END:VEVENT

END:VCALENDAR
