BEGIN:VCALENDAR
VERSION:2.0
PRODID:-//ChamberMaster//Event Calendar 2.0//EN
METHOD:PUBLISH
X-PUBLISHED-TTL:P3D
REFRESH-INTERVAL:P3D
CALSCALE:GREGORIAN
BEGIN:VEVENT
DTSTART:20250611T210000Z
DTEND:20250612T000000Z
X-MICROSOFT-CDO-ALLDAYEVENT:FALSE
SUMMARY:Alliance Therapy Group Open House
DESCRIPTION:You're Invited to Our First Open House at Alliance Therapy Group\n\nWe're excited to welcome you to our inaugural Open House! Whether you're a fellow healthcare professional or simply interested in learning more about our services\, we'd be delighted to meet you.\n\nOur team will be available to discuss the range of services we offer and provide guided tours of our therapy space. You'll also enjoy light refreshments\, fun giveaways\, and an exclusive preview of our offerings including our Affordable Therapy Program.\n\nThis is a casual\, drop-in event\, but if you'd like more information\, feel free to reach out to us at admin@alliancetherapygroup.com or call us at 705-770-2288.\n\nWe look forward to connecting with you!
X-ALT-DESC;FMTTYPE=text/html:<p><strong>You&#39\;re Invited to Our First Open House at Alliance Therapy Group</strong></p>\n\n<p>We&rsquo\;re excited to welcome you to our inaugural Open House! Whether you&#39\;re a fellow healthcare professional or simply interested in learning more about our services\, we&rsquo\;d be delighted to meet you.</p>\n\n<p>Our team will be available to discuss the range of services we offer and provide guided tours of our therapy space. You&#39\;ll also enjoy light refreshments\, fun giveaways\, and an exclusive preview of our offerings&mdash\;including our Affordable Therapy Program.</p>\n\n<p>This is a casual\, drop-in event\, but if you&rsquo\;d like more information\, feel free to reach out to us at <strong>admin@alliancetherapygroup.com</strong> or call us at <strong>705-770-2288</strong>.</p>\n\n<p>We look forward to connecting with you!</p>\n
LOCATION:48 Alliance Blvd. Unit 107 Barrie\, Ontario
UID:e.2454.8025
SEQUENCE:3
DTSTAMP:20260419T144237Z
URL:https://business.barriechamber.com/events/details/alliance-therapy-group-open-house-8025
END:VEVENT

END:VCALENDAR
