BEGIN:VCALENDAR
VERSION:2.0
PRODID:-//ChamberMaster//Event Calendar 2.0//EN
METHOD:PUBLISH
X-PUBLISHED-TTL:P3D
REFRESH-INTERVAL:P3D
CALSCALE:GREGORIAN
BEGIN:VEVENT
DTSTART:20251021T160000Z
DTEND:20251021T173000Z
X-MICROSOFT-CDO-ALLDAYEVENT:FALSE
SUMMARY:AI Adoption Gap Lab: Watch Us Fix It Live!
DESCRIPTION:Botree Inc is excited to host this interactive event - at no cost to you.\n\nThis isn't your average webinar. You'll vote on the adventure by deciding what real-world process our panel tackles\, and watch them fix it live! With organizations scrambling to adopt AI in their business\, listen to the experts on how to leverage AI with intention\, purpose\, security and scalability. This panel will tackle a challenge decided on by the audience to walkthrough live on how to roll out AI through thoughtful implementation.\n\nThe numbers tell the story.\n\nIn 2024\, only 6.1% of Canadian businesses were using AI. By mid-2025\, that figure had nearly doubled to 12.2% (Statistics Canada). Adoption is happening\, and the winners will be those who learn to put AI to work in ways that are safe\, practical\, and measurable.\n\nAbout Your Panelists:\n\nGary Walker (22 North)\n\nFuture of Work Architect\, recognized globally as a Top 50 Remote Innovator and Top 100 Future of Work Leader. Gary helps organizations cut through digital chaos and adopt AI-powered solutions that actually scale.\n\nChris Adams (Adams Hamilton)\n\nFounder & Managing Director who has built and scaled multiple successful start-ups. Chris partners with businesses to align growth strategy\, product design\, and customer experience to unlock new opportunities.\n\nLaura Payne (White Tuque)\n\nCEO & Head of Security Consulting with 25+ years' combined experience in security and financial services. Laura takes a holistic approach - people\, process\, and technology - to build programs that deliver real protection and speed.
X-ALT-DESC;FMTTYPE=text/html:<div>&nbsp\;</div>\n\n<p>Botree Inc is excited to host this interactive event -&nbsp\;<strong>at no cost to you.</strong></p>\n\n<p><span style="background-color:transparent">This isn&rsquo\;t your average webinar. You&rsquo\;ll&nbsp\;</span><em>vote on the adventure</em><span style="background-color:transparent">&nbsp\;by deciding what real-world process our panel tackles\, and watch them fix it live! With organizations scrambling to adopt AI in their business\, listen to the experts on how to leverage AI with intention\, purpose\, security and scalability. This panel will tackle a challenge decided on by the audience to walkthrough live on how to roll out AI through thoughtful implementation.</span></p>\n\n<p style="text-align:center">The numbers tell the story.</p>\n\n<p style="text-align:center">In 2024\, only 6.1% of Canadian businesses were using AI. By mid-2025\, that figure had nearly doubled to&nbsp\;<strong>12.2% (Statistics Canada).</strong>&nbsp\;Adoption is happening\, and the winners will be those who learn to put AI to work in ways that are safe\, practical\, and measurable.</p>\n\n<h2>About Your Panelists:</h2>\n\n<h3>Gary Walker&nbsp\;<span style="font-size:13px">(22 North)</span></h3>\n\n<p>Future of Work Architect\, recognized globally as a Top 50 Remote Innovator and Top 100 Future of Work Leader. Gary helps organizations cut through digital chaos and adopt AI-powered solutions that actually scale.</p>\n\n<h3>Chris Adams&nbsp\;<span style="font-size:13px">(Adams Hamilton)</span></h3>\n\n<p>Founder &amp\; Managing Director who has built and scaled multiple successful start-ups. Chris partners with businesses to align growth strategy\, product design\, and customer experience to unlock new opportunities.</p>\n\n<h3>Laura Payne&nbsp\;<span style="font-size:13px">(White Tuque)</span></h3>\n\n<p>CEO &amp\; Head of Security Consulting with 25+ years&rsquo\; combined experience in security and financial services. Laura takes a holistic approach - people\, process\, and technology - to build programs that deliver real protection and speed.</p>\n
LOCATION:https://lnkd.in/gF6wcmgX
UID:e.2454.8195
SEQUENCE:3
DTSTAMP:20260419T204223Z
URL:https://business.barriechamber.com/events/details/ai-adoption-gap-lab-watch-us-fix-it-live-8195
END:VEVENT

END:VCALENDAR
