BEGIN:VCALENDAR
VERSION:2.0
PRODID:-//ChamberMaster//Event Calendar 2.0//EN
METHOD:PUBLISH
X-PUBLISHED-TTL:P3D
REFRESH-INTERVAL:P3D
CALSCALE:GREGORIAN
BEGIN:VEVENT
DTSTART;VALUE=DATE:20230421
DTEND;VALUE=DATE:20230424
TRANSP:TRANSPARENT
X-MICROSOFT-CDO-ALLDAYEVENT:TRUE
SUMMARY:Accelerated Wealth Experience (AWE) Summit
DESCRIPTION:Are you free April 21-23? Because I have an amazing opportunity that I want to share with you!\n\nIf you're looking to make 2023 "your year" (and who isn't?)\, then you need to be at Podium Prosperity Groups' Accelerated Wealth Event.\n\n\n\nThis is the second run of our three-day event\, where we show small business owners just like you the exact roadmap to predictable business growth and up-leveled success. It's all about getting out of what we call the "doldrums" in your business\, and into a place of loving your business again.\n\n\n\nIf you're not familiar with Podium\, I'm excited to make the introduction! Our mission is to eliminate Entrepreneurial Poverty and Democratize Wealth through small business success.\n\n\n\nCher and Jim are pumped up to teach you:\n\n-The predictable path every successful business takes\, and how to get yourself back onto it\n\n-The biggest and baddest roadblocks that keep small business owners stuck   and what next steps to take to get your energy and revenue flowing steadily again\n\n-What's truly possible for you and your business\, and what to put into place now to start making your lifestyle-driven future a reality\n\n-The key business levers you don't know to pull and how they will make all the difference\n\n-And so much more\n\n\n\nYou and your best business friends need to jump on this opportunity\, because it's absolutely going to change your business and your life.\n\n\n\nSeriously.\n\n\n\nThis is how to shift your business into the next gear. We don't just get real results for our clients\; we care about the results our clients get\, and we're willing to put in the time and expertise required to get you there. This is the real deal\, so don't miss out!\n\n \n\nThe event will be held in Collingwood in just a few weeks\, and the time to register is now \n\n \n\n  because the AWE20 discount code expires April 3rd.\n\n \n\nLearn more at this link: https://bit.ly/AWE-Summit\n\n \n\nIf you're interested\, but on the fence\, let us know! I'm more than happy to connect with you  personally so you can get any lingering questions answered. But make sure you make up your mind before April 3rd or you'll miss out on the discount!
X-ALT-DESC;FMTTYPE=text/html:Are you free April 21-23? Because I have an amazing opportunity that I want to share with you!<br />\n<strong>If you&rsquo\;re looking to make 2023 &ldquo\;your year&rdquo\; (and who isn&rsquo\;t?)\, then you <em>need</em> to be at Podium Prosperity Groups&rsquo\; </strong><a href="https://bit.ly/AWE-Summit" style="color:rgb(5\, 99\, 193)\;"><strong>Accelerated Wealth Event</strong></a><strong>.</strong><br />\n<br />\nThis is the second run of our three-day event\, where we show small business owners just like you the exact roadmap to predictable business growth and up-leveled success. It&rsquo\;s all about getting out of what we call the &ldquo\;doldrums&rdquo\; in your business\, and into a place of loving your business again.<br />\n<br />\nIf you&rsquo\;re not familiar with Podium\, I&rsquo\;m excited to make the introduction! Our mission is to eliminate Entrepreneurial Poverty and Democratize Wealth through small business success.<br />\n<br />\nCher and Jim are pumped up to teach you:<br />\n-The predictable path <em>every</em> successful business takes\, and how to get yourself back onto it<br />\n-The biggest and baddest roadblocks that keep small business owners stuck &ndash\; and what next steps to take to get your energy and revenue flowing steadily again<br />\n-What&rsquo\;s truly possible for you and your business\, and what to put into place <em>now</em> to start making your lifestyle-driven future a reality<br />\n-The key business levers you don&rsquo\;t know to pull and how they will make <em>all the difference</em><br />\n-And so much more<br />\n<br />\nYou and your best business friends need to jump on this opportunity\, because it&rsquo\;s absolutely going to change your business and your life.<br />\n<br />\nSeriously.<br />\n<br />\n<span style="color:#222222"><span style="font-family:arial\,sans-serif"><span style="font-size:12pt">This is how to shift your business into the next gear. We don&rsquo\;t just get real results for our clients\; we&nbsp\;<em>care</em> about the results our clients get\, and we&rsquo\;re willing to put in the time and expertise required to get you there. This is the real deal\, so don&rsquo\;t miss out!</span></span></span><br />\n&nbsp\;<br />\n<span style="color:#222222"><span style="font-family:arial\,sans-serif"><span style="font-size:12pt">The event will be held in Collingwood in just a few weeks\, and the time to </span></span></span><a href="https://bit.ly/AWE-Summit" style="color:rgb(5\, 99\, 193)\;"><span style="font-family:arial\,sans-serif"><span style="font-size:12pt">register</span></span></a><span style="color:#222222"><span style="font-family:arial\,sans-serif"><span style="font-size:12pt"> is <em>now</em>&hellip\;</span></span></span><br />\n&nbsp\;<br />\n<span style="color:#222222"><span style="font-family:arial\,sans-serif"><span style="font-size:12pt">&hellip\; because the <strong>AWE20 discount code</strong> expires April 3<sup>rd</sup>.</span></span></span><br />\n&nbsp\;<br />\n<span style="color:#222222"><span style="font-family:arial\,sans-serif"><span style="font-size:12pt">Learn more at this link:&nbsp\;</span></span></span><a href="https://bit.ly/AWE-Summit" style="color:rgb(5\, 99\, 193)\;" target="_blank"><span style="color:#1155cc"><span style="font-family:arial\,sans-serif"><span style="font-size:12pt">https://bit.ly/AWE-Summit</span></span></span></a><br />\n&nbsp\;<br />\n<strong><span style="color:#222222"><span style="font-family:arial\,sans-serif"><span style="font-size:12pt">If you&rsquo\;re interested\, but on the fence\, let us know! I&rsquo\;m more than happy to connect with you&nbsp\; personally so you can get any lingering questions answered.</span></span></span></strong><span style="color:#222222"><span style="font-family:arial\,sans-serif"><span style="font-size:12pt"> But make sure you make up your mind before April 3<sup>rd</sup> or you&rsquo\;ll miss out on the discount!</span></span></span>
LOCATION:Georgian Bay Hotel in Collingwood Ontario
UID:e.2454.5572
SEQUENCE:3
DTSTAMP:20260420T064320Z
URL:https://business.barriechamber.com/events/details/accelerated-wealth-experience-awe-summit-5572
END:VEVENT

END:VCALENDAR
