BEGIN:VCALENDAR
VERSION:2.0
PRODID:-//ChamberMaster//Event Calendar 2.0//EN
METHOD:PUBLISH
X-PUBLISHED-TTL:P3D
REFRESH-INTERVAL:P3D
CALSCALE:GREGORIAN
BEGIN:VEVENT
DTSTART:20260607T190000Z
DTEND:20260607T230000Z
X-MICROSOFT-CDO-ALLDAYEVENT:FALSE
SUMMARY:A Sunday Afternoon
DESCRIPTION:Join us for the 18th Annual Sunday Afternoon\, a signature fundraising event in support of Gilda's Club Simcoe Muskoka. Set against the backdrop of a stunning private estate in Innisfil\, this one-of-a-kind gathering brings together live music\, exceptional food and drink\, and a shared commitment to ensuring no one faces cancer alone.\n\nOn Sunday\, June 7\, guests will enjoy an intimate outdoor performance by the Matthew Good Trio\, along with gourmet culinary experiences\, premium beverages\, exciting live and silent auctions\, and thoughtful surprises throughout the afternoon. Every element of the day is designed to create meaningful connections while raising critical funds for free cancer support programs in our community.\n\nBuy tickets - https://gildasclubsimcoemuskoka.org/event/a-sunday-afternoon/
X-ALT-DESC;FMTTYPE=text/html:<p>Join us for the 18th Annual&nbsp\;<em>Sunday Afternoon</em>\, a signature fundraising event in support of Gilda&rsquo\;s Club Simcoe Muskoka. Set against the backdrop of a stunning private estate in Innisfil\, this one-of-a-kind gathering brings together live music\, exceptional food and drink\, and a shared commitment to ensuring no one faces cancer alone.</p>\n\n<p>On Sunday\, June 7\, guests will enjoy an intimate outdoor performance by the Matthew Good Trio\, along with gourmet culinary experiences\, premium beverages\, exciting live and silent auctions\, and thoughtful surprises throughout the afternoon. Every element of the day is designed to create meaningful connections while raising critical funds for free cancer support programs in our community.<br />\nBuy tickets -&nbsp\;https://gildasclubsimcoemuskoka.org/event/a-sunday-afternoon/</p>\n
LOCATION:Private Estate\, Innisfil
UID:e.2454.8477
SEQUENCE:3
DTSTAMP:20260422T011235Z
URL:https://business.barriechamber.com/events/details/a-sunday-afternoon-8477
END:VEVENT

END:VCALENDAR
