BEGIN:VCALENDAR
VERSION:2.0
PRODID:-//ChamberMaster//Event Calendar 2.0//EN
METHOD:PUBLISH
X-PUBLISHED-TTL:P3D
REFRESH-INTERVAL:P3D
CALSCALE:GREGORIAN
BEGIN:VEVENT
DTSTART:20260124T150000Z
DTEND:20260125T210000Z
X-MICROSOFT-CDO-ALLDAYEVENT:FALSE
SUMMARY:2026 Women's Show
DESCRIPTION:The Annual Barrie Women's Show is back! A wonderful and fun day out with your girlfriends.\n\nThe Barrie Women's Show will feature guest speakers\, live fashion shows\, makeovers\, health\, wellness & beauty secrets\, food inspiration\, d cor advice\, travel ideas and so much more.\n\nNo matter what you're looking for\, we've got it! Enjoy shopping exclusive products from local vendors. Everyone in your group is sure to be entertained at Barrie's hottest event of the year!\n\nAdmission is $7 and 1?00% of the NET proceeds from ticket sales with go to Roots For Youth (rootsforyouth.com)\n\n*Please note: Out of respect for our vendors\, we will not be allowing pets in the Show area.*
X-ALT-DESC;FMTTYPE=text/html:<p>The Annual Barrie Women&rsquo\;s Show is back! A wonderful and fun day out with your girlfriends.</p>\n\n<p>The Barrie Women&#39\;s Show will feature guest speakers\, live fashion shows\, makeovers\, health\, wellness &amp\; beauty secrets\, food inspiration\, d&eacute\;cor advice\, travel ideas and so much more.</p>\n\n<p>No matter what you&rsquo\;re looking for\, we&#39\;ve got it! Enjoy shopping exclusive products from local vendors. Everyone in your group is sure to be entertained at Barrie&rsquo\;s hottest event of the year!</p>\n\n<p>Admission is $7 and 1?00% of the NET proceeds from ticket sales with go to Roots For Youth (rootsforyouth.com)</p>\n\n<p>*Please note: Out of respect for our vendors\, we will not be allowing pets in the Show area.*</p>\n
LOCATION:Bradford Greenhouses Garden Gallery 4346 Highway 90\, Springwater\, ON\, L9X 1T7
UID:e.2454.8003
SEQUENCE:3
DTSTAMP:20260420T013056Z
URL:https://business.barriechamber.com/events/details/2026-women-s-show-8003
END:VEVENT

END:VCALENDAR
