BEGIN:VCALENDAR
VERSION:2.0
PRODID:-//ChamberMaster//Event Calendar 2.0//EN
METHOD:PUBLISH
X-PUBLISHED-TTL:P3D
REFRESH-INTERVAL:P3D
CALSCALE:GREGORIAN
BEGIN:VEVENT
DTSTART:20260506T113000Z
DTEND:20260506T133000Z
X-MICROSOFT-CDO-ALLDAYEVENT:FALSE
SUMMARY:2026 TD Economic Update\, Fireside Chat with Derek Burleton
DESCRIPTION:Go beyond the headlines.\n\n\n\nJoin us for the 2026 TD Economic Update\, featuring a fireside chat with TD's Deputy Chief Economist\, Derek Burleton.\n\nThis year's format moves beyond a traditional presentation\, offering a more direct and candid conversation on the forces shaping the economic outlook.\n\nFrom interest rates and inflation to global uncertainty and policy direction\, the discussion will focus on what is driving change in the economy and what it means for business leaders making decisions in real time.\n\nDesigned for business owners\, executives and professionals\, this session connects economic trends to practical business impact across sectors.\n\nExpect a clear\, grounded perspective on what is coming next and how it may impact your business.\n\n#TDBank #BarrieChamber #FiresideChat #DerekBurleton\n\nProudly hosted by the Barrie Chamber of Commerce and supported by Invest Barrie. \n\nRegistration is required - limited availability.\n\nCompliments of TD Business Banking.\n\n\n\nDerek is Vice President and Deputy Chief Economist for TD Bank Group. In his role\, he leads a team of economists that provides leading analysis on the Canadian and U.S. economies. Each year\, he speaks at more than 100 events on economic and financial developments across the U.S. and Canada. As a respected commentator\, Derek has been quoted by many media outlets   including the London Financial Times and the Economist. He also is frequently interviewed on the radio and television.\n\n\n\nDerek maintains a strong interest in public policy issues\, and has written substantive reports on health care sustainability\, education and immigration reform. He participates in a number of advisory and steering committees both internal and external to TD Bank Group.\n\n\n\nDerek Burleton received his Bachelor of Commerce from Queen's University and an M.Sc. in Economics from the London School of Economics. Derek has more than 25 years of experience as an economist in the financial industry.
X-ALT-DESC;FMTTYPE=text/html:<p data-end="805" data-start="689"><span style="font-size:16px\;"><span style="font-family:arial\;"><u><strong>Go beyond the headlines.</strong></u><br />\n<br />\nJoin us for the <strong>2026 TD Economic Update\, featuring a fireside chat with TD&rsquo\;s Deputy Chief Economist\, Derek Burleton.</strong></span></span></p>\n\n<p data-end="1016" data-start="866"><span style="font-size:16px\;"><span style="font-family:arial\;">This year&rsquo\;s format moves beyond a traditional presentation\, offering a more direct and candid conversation on the forces shaping the economic outlook.</span></span></p>\n\n<p data-end="1232" data-start="1018"><span style="font-size:16px\;"><span style="font-family:arial\;">From interest rates and inflation to global uncertainty and policy direction\, the discussion will focus on what is driving change in the economy and what it means for business leaders making decisions in real time.</span></span></p>\n\n<p data-end="1376" data-start="1234"><span style="font-size:16px\;"><span style="font-family:arial\;">Designed for business owners\, executives and professionals\, this session connects economic trends to practical business impact across sectors.</span></span></p>\n\n<p data-end="1321" data-start="1186"><span style="font-size:16px\;"><span style="font-family:arial\;"><strong>Expect a clear\, grounded perspective on what is coming next and how it may impact your business.</strong></span></span></p>\n\n<p data-end="1321" data-start="1186"><span style="font-size:16px\;"><span style="font-family:arial\;">#TDBank #BarrieChamber #FiresideChat #DerekBurleton<br />\nProudly hosted by the Barrie Chamber of Commerce and supported by Invest Barrie.&nbsp\;</span></span></p>\n\n<p><span style="font-size:16px\;"><span style="font-family:arial\;"><strong>Registration is required - <u>limited availability</u>.</strong></span></span></p>\n\n<p><span style="font-size:16px\;"><span style="font-family:arial\;"><strong>Compliments of TD Business Banking.</strong><br />\n<br />\n<em>Derek is Vice President and Deputy Chief Economist for TD Bank Group. In his role\, he leads a team of economists that provides leading analysis on the Canadian and U.S. economies. Each year\, he speaks at more than 100 events on economic and financial developments across the U.S. and Canada. As a respected commentator\, Derek has been quoted by many media outlets &ndash\; including the London Financial Times and the Economist. He also is frequently interviewed on the radio and television.<br />\n<br />\nDerek maintains a strong interest in public policy issues\, and has written substantive reports on health care sustainability\, education and immigration reform. He participates in a number of advisory and steering committees both internal and external to TD Bank Group.<br />\n<br />\nDerek Burleton received his Bachelor of Commerce from Queen&rsquo\;s University and an M.Sc. in Economics from the London School of Economics. Derek has more than 25 years of experience as an economist in the financial industry.</em></span></span></p>\n
LOCATION:Liberty North 100 Caplan Ave #1\, Barrie\, ON L4N 9J2
UID:e.2454.8466
SEQUENCE:3
DTSTAMP:20260422T085204Z
URL:https://business.barriechamber.com/events/details/2026-td-economic-update-fireside-chat-with-derek-burleton-8466
END:VEVENT

END:VCALENDAR
