BEGIN:VCALENDAR
VERSION:2.0
PRODID:-//ChamberMaster//Event Calendar 2.0//EN
METHOD:PUBLISH
X-PUBLISHED-TTL:P3D
REFRESH-INTERVAL:P3D
CALSCALE:GREGORIAN
BEGIN:VEVENT
DTSTART;VALUE=DATE:20180301
DTEND;VALUE=DATE:20180305
TRANSP:TRANSPARENT
X-MICROSOFT-CDO-ALLDAYEVENT:TRUE
SUMMARY:2018 Orillia Winter Games
DESCRIPTION:The City of Orillia is proud to officially host the 2018 Ontario Winter Games\, Ontario's largest winter multi-sport event! Orillia welcomes over 3\,000 provincial level athletes\, ages 12 to 18\, from all regions of Ontario\, to compete in 25 different sports over 4 days! Games at sport facilities in Orillia & neighbouring municipalities of Midland\, Oro-Medonte\, Barrie\, Chippewas of Rama First Nation\, Gravenhurst\, Bracebridge & Huntsville. Orillia Winter Games Headquarters at Orillia Waterfront Centre\, 50 Centennial Drive. 705-329-7250 or mladouceur@orillia.ca
X-ALT-DESC;FMTTYPE=text/html:The City of Orillia is proud to officially host the 2018 Ontario Winter Games\, Ontario&#39\;s largest winter multi-sport event! Orillia welcomes over 3\,000 provincial level athletes\, ages 12 to 18\, from all regions of Ontario\, to compete in 25 different sports over 4 days! Games at sport facilities in Orillia &amp\; neighbouring municipalities of Midland\, Oro-Medonte\, Barrie\, Chippewas of Rama First Nation\, Gravenhurst\, Bracebridge &amp\; Huntsville. Orillia Winter Games Headquarters at Orillia Waterfront Centre\, 50 Centennial Drive. 705-329-7250 or mladouceur@orillia.ca
LOCATION:
UID:e.2454.3015
SEQUENCE:3
DTSTAMP:20260419T143641Z
URL:https://business.barriechamber.com/events/details/2018-orillia-winter-games-3015
END:VEVENT

END:VCALENDAR
