BEGIN:VCALENDAR
VERSION:2.0
PRODID:-//ChamberMaster//Event Calendar 2.0//EN
METHOD:PUBLISH
X-PUBLISHED-TTL:P3D
REFRESH-INTERVAL:P3D
CALSCALE:GREGORIAN
BEGIN:VEVENT
DTSTART:20240925T130000Z
DTEND:20240925T190000Z
X-MICROSOFT-CDO-ALLDAYEVENT:FALSE
SUMMARY:1st Annual Glowing Hearts Charity Golf Classic
DESCRIPTION:Join us for Glowing Hearts Charity's 1st Annual Golf Classic to raise funds for children and youth in need in our community. \n\n\n\nYour ticket includes Golf\, Cart\, Coffee & Muffins\, Sit-Down Lunch\, Large Prize Table\, Hole-in-One Contest\, and More!\n\n\n\nGlowing Hearts Charity works to disrupt the cycle of poverty by providing programs that reduce barriers and support the mental health\, growth\, and development of school-age children and youth in Simcoe County.
X-ALT-DESC;FMTTYPE=text/html:<p><span style="color:#660033"><strong>Join us for Glowing Hearts Charity&#39\;s 1st Annual Golf Classic to raise funds for children and youth in need in our community.&nbsp\;<br />\n<br />\nYour ticket includes Golf\, Cart\, Coffee &amp\; Muffins\, Sit-Down Lunch\, Large Prize Table\, Hole-in-One Contest\, and More!</strong><br />\n<br />\nGlowing Hearts Charity works to disrupt the cycle of poverty by providing programs that reduce barriers and support the mental health\, growth\, and development of school-age children and youth in Simcoe County.</span></p>\n
LOCATION:National Pines Golf Club\, Innisfil
UID:e.2454.6051
SEQUENCE:3
DTSTAMP:20260423T132435Z
URL:https://business.barriechamber.com/events/details/1st-annual-glowing-hearts-charity-golf-classic-6051
END:VEVENT

END:VCALENDAR
